BEGIN:VCALENDAR
VERSION:2.0
PRODID:-//wp-events-plugin.com//7.2.3.1//EN
TZID:America/New_York
X-WR-TIMEZONE:America/New_York
BEGIN:VEVENT
UID:721@breatheatlanta.us
DTSTART;TZID=America/New_York:20241116T130000
DTEND;TZID=America/New_York:20241116T160000
DTSTAMP:20241025T105823Z
URL:https://breatheatlanta.us/events/atlanta-chili-cook-off/
SUMMARY:Atlanta Chili Cook-Off
DESCRIPTION:The Atlanta Chili Cook-Off returns with its signature blend of 
 flavorful competition\, community fun\, and family-friendly activities\, p
 romising a memorable afternoon for all ages. This year’s festival brings
  together over 50 chili recipes crafted by a mix of amateur chefs\, local 
 restaurants\, and catering teams\, each competing for the ultimate title o
 f “Best Chili” and a chance to win one of the event’s coveted trophi
 es.\n\nVisitors are invited to sample a wide array of chili creations\, fr
 om classic to adventurous takes\, and vote for their favorites\, adding an
  interactive thrill to the event. Beyond the bowls of chili\, there’s pl
 enty to enjoy—from live entertainment and games for the kids to food sta
 lls and a festive fall atmosphere. Perfect for both seasoned chili aficion
 ados and those simply seeking a fun outing\, the Atlanta Chili Cook-Off ha
 s become a must-attend autumn tradition for the local community.\n\nGET TI
 CKETS\n
ATTACH;FMTTYPE=image/jpeg:https://breatheatlanta.us/wp-content/uploads/202
 4/10/Atlanta-Chili-Cook-Off.jpg
CATEGORIES:Food &amp; Drink Events,Things To Do
LOCATION:Brook Run Park\, 4770 N Peachtree Rd\, Dunwoody\, Atlanta\, Georgi
 a\, 30338\,  GA\, United States
X-APPLE-STRUCTURED-LOCATION;VALUE=URI;X-ADDRESS=4770 N Peachtree Rd\, Dunwo
 ody\, Atlanta\, Georgia\, 30338\,  GA\, United States;X-APPLE-RADIUS=100;X
 -TITLE=Brook Run Park:geo:0,0
END:VEVENT
BEGIN:VTIMEZONE
TZID:America/New_York
X-LIC-LOCATION:America/New_York
BEGIN:STANDARD
DTSTART:20241103T010000
TZOFFSETFROM:-0400
TZOFFSETTO:-0500
TZNAME:EST
END:STANDARD
END:VTIMEZONE
END:VCALENDAR