BEGIN:VCALENDAR
VERSION:2.0
PRODID:-//wp-events-plugin.com//7.2.3.1//EN
TZID:America/New_York
X-WR-TIMEZONE:America/New_York
BEGIN:VEVENT
UID:742@breatheatlanta.us
DTSTART;TZID=America/New_York:20241201T110000
DTEND;TZID=America/New_York:20241224T210000
DTSTAMP:20241204T082110Z
URL:https://breatheatlanta.us/events/atlanta-christkindl-market/
SUMMARY:Atlanta Christkindl Market
DESCRIPTION:The heart of Buckhead Village comes alive this holiday season w
 ith the arrival of the Atlanta Christkindl Market\, an enchanting and auth
 entic German holiday experience. Open throughout the season\, this family-
 friendly market invites visitors of all ages to step into a winter wonderl
 and filled with festive delights\, cultural charm\, and the magic of the h
 olidays.\nA Taste of Germany in Atlanta\nModeled after traditional Europea
 n Christmas markets\, the Atlanta Christkindl Market offers a unique oppor
 tunity to explore holiday traditions from Germany right in the heart of At
 lanta. Stroll through rows of beautifully decorated wooden stalls offering
  an array of treasures and treats:\n\n 	Holiday Gifts and Handcrafted Item
 s\nShoppers will find unique ornaments\, artisanal crafts\, and one-of-a-k
 ind holiday decorations perfect for bringing a touch of European charm to 
 their homes.\n 	German Cuisine and Treats\nSavor the flavors of Germany wi
 th classic holiday foods like bratwurst\, schnitzel\, and pretzels. Sweet 
 treats\, including gingerbread cookies and marzipan\, are also available\,
  alongside seasonal beverages like mulled wine (Glühwein) and hot chocola
 te.\n\nActivities and Attractions for the Whole Family\nThe Atlanta Christ
 kindl Market is more than just a shopping destination—it’s a festive g
 athering place filled with activities and experiences for visitors young a
 nd old:\n\n 	Meet Santa Claus\nSanta will be on-site to pose for photos an
 d listen to children’s holiday wishes\, creating lasting memories for fa
 milies.\n 	Cultural Performances\nEnjoy live entertainment that showcases 
 traditional German music\, dances\, and holiday carols\, adding to the fes
 tive atmosphere.\n 	Holiday Atmosphere\nThe market’s twinkling lights\, 
 festive décor\, and cheerful ambiance make it an ideal spot to soak in th
 e spirit of the season.\n\nA Celebration of Community\nThe Atlanta Christk
 indl Market is more than just a celebration of the holidays\; it’s a spa
 ce where families and friends can gather to create cherished memories. Fro
 m discovering unique gifts to indulging in delicious treats\, every visit 
 offers something new and special to enjoy.\n\nPlan your visit to the Atlan
 ta Christkindl Market at Buckhead Village this season and immerse yourself
  in a magical holiday experience that combines cultural traditions\, delig
 htful flavors\, and family fun.\n\nGET TICKETS\n
ATTACH;FMTTYPE=image/jpeg:https://breatheatlanta.us/wp-content/uploads/202
 4/12/Screenshot-2024-12-04-141954.png
CATEGORIES:Things To Do
LOCATION:Buckhead Village\, 3035 Peachtree Rd.\, NE\, Atlanta\, Georgia\, 3
 0305\, GA\, United States
X-APPLE-STRUCTURED-LOCATION;VALUE=URI;X-ADDRESS=3035 Peachtree Rd.\, NE\, A
 tlanta\, Georgia\, 30305\, GA\, United States;X-APPLE-RADIUS=100;X-TITLE=B
 uckhead Village:geo:0,0
END:VEVENT
BEGIN:VTIMEZONE
TZID:America/New_York
X-LIC-LOCATION:America/New_York
BEGIN:STANDARD
DTSTART:20241103T010000
TZOFFSETFROM:-0400
TZOFFSETTO:-0500
TZNAME:EST
END:STANDARD
END:VTIMEZONE
END:VCALENDAR