BEGIN:VCALENDAR
VERSION:2.0
PRODID:-//wp-events-plugin.com//7.2.3.1//EN
TZID:America/New_York
X-WR-TIMEZONE:America/New_York
BEGIN:VEVENT
UID:694@breatheatlanta.us
DTSTART;TZID=America/New_York:20241119T100000
DTEND;TZID=America/New_York:20241119T160000
DTSTAMP:20241024T160817Z
URL:https://breatheatlanta.us/events/atlanta-ga-training-become-a-certifie
 d-yoni-steam-practitioner/
SUMMARY:Atlanta\, Ga Training - Become a Certified Yoni Steam Practitioner
DESCRIPTION:Become a Certified Yoni Steam Practitioner by mastering the anc
 ient and empowering art of vaginal steaming. Whether you’re interested i
 n holistic wellness or expanding your professional skillset\, this in-dept
 h training will provide everything you need to know about Yoni steaming an
 d womb wellness.\n\nThis training\, hosted by the VSteam Academy\, offers 
 both online and in-person options\, including monthly in-person sessions i
 n Sacramento\, CA. The course is designed to cater to a variety of learnin
 g styles with options for full online study\, in-person training\, or a hy
 brid model combining both formats. The online portion can be completed in 
 3 to 5 days of full-time study\, while the in-person sessions are delivere
 d by highly qualified master trainers in the holistic wellness industry.\n
 \nCourse Overview and Certifications\n\nParticipants will earn two prestig
 ious certifications upon completion:\n\n 	Certified Yoni Steam Practitione
 r\n 	Womb Wellness Specialist Certification\n\nThe comprehensive course cu
 rriculum includes over 50 lessons divided into 11 detailed modules coverin
 g topics such as:\n\n 	Yoni Spa Vision Creation: Designing your spa vision
  with inspiration\, walkthroughs\, and understanding client perspectives.\
 n 	Vaginal Steaming 101: Exploring the history\, benefits\, and contraindi
 cations of steaming.\n 	Female Anatomy: A deep dive into the reproductive 
 system\, menstrual cycle\, fertility\, and ovulation.\n 	Energy of the Wom
 b: Understanding emotional\, creative\, intuitive\, and spiritual energies
  linked to the womb.\n 	Reproductive Disorders: Identifying and addressing
  disorders related to the womb and reproductive system.\n 	Womb Nutrition:
  Learning about nutrition\, vitamins\, minerals\, and herbal tea blends es
 sential for womb health.\n 	Herbs 101: An introduction to herbal history\,
  herb selection\, and herbal blends for vaginal steaming.\n 	Advanced Herb
 al Treatments: Formulating specific herbal blends for various health condi
 tions.\n 	Client Case Studies: Analyzing client symptoms and developing pe
 rsonalized treatment protocols.\n 	Yoni Steaming Spa Setup: Step-by-step g
 uidance on creating a yoni spa experience\, including setup\, supply lists
 \, client intake\, and assessment.\n 	Yoni Steaming Business: Comprehensiv
 e insights on licensing\, permits\, insurance\, pricing\, equipment\, and 
 furniture for running a successful spa.\n\nTraining Options and Fees\n\n 	
 In-Person Training: Available monthly in Sacramento\, CA\, with a tuition 
 fee of $500 and a $150 deposit to secure your spot.\n 	Online Training: Se
 lf-paced\, allowing flexibility\, and can be completed within 3 to 5 days 
 for those studying full-time.\n 	Hybrid Training: Combines both online and
  in-person elements for a flexible learning experience.\n\nHow to Enroll\n
 \nEnrollment is simple! A $150 deposit is required for in-person training\
 , with the remaining balance payable upon arrival. For online courses\, di
 scounted rates and flexible payment options are available.\n\nFor more inf
 ormation or to reserve your spot\, contact VSteam Academy at 530-564-6108 
 or visit www.VSteamAcademy.com.\n\nExpand your expertise and offer your cl
 ients holistic womb wellness support by becoming a certified Yoni Steam Pr
 actitioner!\n\nGET TICKETS\n
ATTACH;FMTTYPE=image/jpeg:https://breatheatlanta.us/wp-content/uploads/202
 4/10/Atlanta-Ga-Training-Become-a-Certified-Yoni-Steam-Practitioner.jpg
CATEGORIES:Wellness Events
LOCATION:6000 N Terminal pkwy\, Atlanta\,  30320\, Georgia\, 30126\, GA\, U
 nited States
X-APPLE-STRUCTURED-LOCATION;VALUE=URI;X-ADDRESS=Atlanta\,  30320\, Georgia\
 , 30126\, GA\, United States;X-APPLE-RADIUS=100;X-TITLE=6000 N Terminal pk
 wy:geo:0,0
END:VEVENT
BEGIN:VTIMEZONE
TZID:America/New_York
X-LIC-LOCATION:America/New_York
BEGIN:STANDARD
DTSTART:20241103T010000
TZOFFSETFROM:-0400
TZOFFSETTO:-0500
TZNAME:EST
END:STANDARD
END:VTIMEZONE
END:VCALENDAR