BEGIN:VCALENDAR
VERSION:2.0
PRODID:-//wp-events-plugin.com//7.2.3.1//EN
TZID:America/New_York
X-WR-TIMEZONE:America/New_York
BEGIN:VEVENT
UID:403@breatheatlanta.us
DTSTART;TZID=America/New_York:20240831T110000
DTEND;TZID=America/New_York:20240901T200000
DTSTAMP:20240802T122528Z
URL:https://breatheatlanta.us/events/atlanta-hip-hop-day-festival/
SUMMARY:Atlanta Hip Hop Day Festival
DESCRIPTION:Join us for the 15th Annual Atlanta Hip Hop Day Festival\, a dy
 namic celebration of Atlanta's pivotal contribution to hip hop culture. Th
 is event promises an exciting blend of top-notch entertainment\, diverse v
 endors\, and delicious food\, all set against the backdrop of Historic 4th
  Ward Park.\n\nEvent Highlights:\n\n 	Live Performances: Experience electr
 ifying sets from renowned DJs\, including DJ SCREAM of The Big Facts Podca
 st and DJ Swamp Izzo of Cash Money Records. Their beats and vibes will kee
 p the energy high throughout the festival.\n 	Cultural Celebration: Immers
 e yourself in the rich hip hop culture that Atlanta has helped shape. This
  festival is dedicated to honoring and showcasing the city's significant i
 nfluence on the genre.\n 	Great Vendors: Explore a variety of vendors offe
 ring unique merchandise\, art\, and more. It's the perfect place to find h
 ip hop-inspired goods and support local businesses.\n 	Delicious Food: Sat
 isfy your taste buds with an array of food options from local vendors. Fro
 m classic Southern dishes to modern street food\, there's something for ev
 eryone.\n\nJoin us on August 31st and September 1st at Historic 4th Ward P
 ark to celebrate the vibrant culture of Atlanta hip hop. Whether you're a 
 longtime fan or new to the scene\, the Atlanta Hip Hop Day Festival offers
  something for everyone. Don't miss this chance to be part of an iconic cu
 ltural event!\n\nGET TICKETS\n
ATTACH;FMTTYPE=image/jpeg:https://breatheatlanta.us/wp-content/uploads/202
 4/08/Atlanta-HipHop-Festival.jpg
CATEGORIES:Arts &amp; Performances,Things To Do
LOCATION:Historic Fourth Ward Park\, 680 Dallas Street Northeast Atlanta\, 
 Atlanta\, Georgia\, 30308\, GA\, United States
X-APPLE-STRUCTURED-LOCATION;VALUE=URI;X-ADDRESS=680 Dallas Street Northeast
  Atlanta\, Atlanta\, Georgia\, 30308\, GA\, United States;X-APPLE-RADIUS=1
 00;X-TITLE=Historic Fourth Ward Park:geo:0,0
END:VEVENT
BEGIN:VTIMEZONE
TZID:America/New_York
X-LIC-LOCATION:America/New_York
BEGIN:DAYLIGHT
DTSTART:20240310T030000
TZOFFSETFROM:-0500
TZOFFSETTO:-0400
TZNAME:EDT
END:DAYLIGHT
END:VTIMEZONE
END:VCALENDAR