BEGIN:VCALENDAR
VERSION:2.0
PRODID:-//wp-events-plugin.com//7.2.3.1//EN
TZID:America/New_York
X-WR-TIMEZONE:America/New_York
BEGIN:VEVENT
UID:308@breatheatlanta.us
DTSTART;TZID=America/New_York:20240716T173000
DTEND;TZID=America/New_York:20240716T183000
DTSTAMP:20240626T184747Z
URL:https://breatheatlanta.us/events/atlanta-laughter-yoga-club-2/
SUMMARY:Atlanta Laughter Yoga Club
DESCRIPTION:The Atlanta Laughter Yoga Club\, led by Celeste Greene\, offers
  a free monthly Laughter Yoga session in Atlanta\, GA. These sessions prov
 ide an opportunity for participants to engage in a unique form of exercise
  that combines laughter and yoga to promote physical and mental well-being
 . The gatherings are held on the third Tuesday of each month at the Trolle
 y Barn\, located in the charming Inman Park neighborhood. Attendees can ta
 ke advantage of the free on-street parking available outside the venue.\nB
 enefits of Attending\n\n 	Health and Wellness: Laughter Yoga combines the 
 health benefits of laughter with the physical benefits of yoga\, promoting
  overall well-being.\n 	Community Connection: Participants have the chance
  to meet and connect with others in a positive and supportive environment.
 \n 	Stress Relief: The practice of Laughter Yoga helps reduce stress\, enh
 ance mood\, and improve mental clarity.\n 	Accessibility: With no cost to 
 attend and free parking\, the sessions are accessible to everyone interest
 ed in improving their health through laughter.\n\nWhy Join?\nJoining the A
 tlanta Laughter Yoga Club is a fantastic way to enhance your physical and 
 mental health\, meet new people\, and enjoy a fun and uplifting activity. 
 Celeste Greene's expert guidance ensures that each session is engaging and
  beneficial. Don't miss out on this opportunity to add joy and relaxation 
 to your month. Mark your calendar for the third Tuesday and experience the
  unique benefits of Laughter Yoga at the Trolley Barn.\n\nGET TICKETS\n
ATTACH;FMTTYPE=image/jpeg:https://breatheatlanta.us/wp-content/uploads/202
 4/06/Atlanta-Laughter-Yoga-Club.jpg
CATEGORIES:Mindfulness Events,Wellness Events,Yoga Events
LOCATION:Trolley Barn\, 963 Edgewood Avenue Northeast Atlanta\, GA 30307 Un
 ited States\, GA\,  United States\,  30307\, GA\, United States
X-APPLE-STRUCTURED-LOCATION;VALUE=URI;X-ADDRESS=963 Edgewood Avenue Northea
 st Atlanta\, GA 30307 United States\, GA\,  United States\,  30307\, GA\, 
 United States;X-APPLE-RADIUS=100;X-TITLE=Trolley Barn:geo:0,0
END:VEVENT
BEGIN:VTIMEZONE
TZID:America/New_York
X-LIC-LOCATION:America/New_York
BEGIN:DAYLIGHT
DTSTART:20240310T030000
TZOFFSETFROM:-0500
TZOFFSETTO:-0400
TZNAME:EDT
END:DAYLIGHT
END:VTIMEZONE
END:VCALENDAR