BEGIN:VCALENDAR
VERSION:2.0
PRODID:-//wp-events-plugin.com//7.2.3.1//EN
TZID:America/New_York
X-WR-TIMEZONE:America/New_York
BEGIN:VEVENT
UID:111@breatheatlanta.us
DTSTART;TZID=America/New_York:20240416T173000
DTEND;TZID=America/New_York:20240416T183000
DTSTAMP:20240323T090832Z
URL:https://breatheatlanta.us/events/atlanta-laughter-yoga-club/
SUMMARY:Atlanta Laughter Yoga Club
DESCRIPTION:\n\n\n\n\n\n\n\n\n\n\n\n\nExperience the joy of Free Laughter Y
 oga in Atlanta!  on the first Wednesday of every month as we come togethe
 r to laugh in the serene garden setting at the Trolley Barn.\n\nEvent Info
 rmation:\n\nDate and Time: Tuesday\, April 16\, 5:30 - 6:30 pm EDT.\n\nLoc
 ation: Trolley Barn\, 963 Edgewood Avenue Northeast Atlanta\, GA 30307\, U
 nited States\n\nTicket Price: Free\n\n&nbsp\;\n\nGET TICKETS\n\nAbout this
  Event: Join Celeste Greene for a free monthly Laughter Yoga session in At
 lanta\, GA. Sessions are held on the first Wednesday of the month at the T
 rolley Barn in the Inman Park neighborhood. Free on-street parking is avai
 lable outside the Trolley Barn.\n\nWorkout Session Detail:\n\nClass Times:
  Third Tuesday of the month from 5:30 6:15 p.m.\n\nEssential for Bring:\n\
 nCome as you are! The Laughter Yoga class does not require any special exe
 rcise clothing or equipment\, but you may wish to bring a yoga mat to sit 
 or lie down on at the end. You may also wish to bring a water bottle to st
 ay hydrated.\n\nParking Option: Free on-street parking is available outsid
 e the Trolley Barn.\n\n\n\n\n\n\n\n\n\n\n\n\n
ATTACH;FMTTYPE=image/jpeg:https://breatheatlanta.us/wp-content/uploads/202
 4/03/https___cdn.evbuc_.com_images_254725989_74987822899_1_original.jpeg
CATEGORIES:Wellness Events,Yoga Events
LOCATION:Trolley Barn\, 963 Edgewood Avenue Northeast Atlanta\, GA 30307 Un
 ited States\, GA\,  United States\,  30307\, GA\, United States
X-APPLE-STRUCTURED-LOCATION;VALUE=URI;X-ADDRESS=963 Edgewood Avenue Northea
 st Atlanta\, GA 30307 United States\, GA\,  United States\,  30307\, GA\, 
 United States;X-APPLE-RADIUS=100;X-TITLE=Trolley Barn:geo:0,0
END:VEVENT
BEGIN:VTIMEZONE
TZID:America/New_York
X-LIC-LOCATION:America/New_York
BEGIN:DAYLIGHT
DTSTART:20240310T030000
TZOFFSETFROM:-0500
TZOFFSETTO:-0400
TZNAME:EDT
END:DAYLIGHT
END:VTIMEZONE
END:VCALENDAR