BEGIN:VCALENDAR
VERSION:2.0
PRODID:-//wp-events-plugin.com//7.2.3.1//EN
TZID:America/New_York
X-WR-TIMEZONE:America/New_York
BEGIN:VEVENT
UID:390@breatheatlanta.us
DTSTART;TZID=America/New_York:20240818T100000
DTEND;TZID=America/New_York:20240818T180000
DTSTAMP:20240730T200324Z
URL:https://breatheatlanta.us/events/atlanta-reiki-level-one-sunday/
SUMMARY:Atlanta "Reiki Level One" Sunday
DESCRIPTION:Embark on a transformative journey with the "Discover Your Heal
 ing Potential: Atlanta Reiki Level One Workshop\," happening this Sunday. 
 This workshop is designed for those who wish to explore and harness their 
 innate spiritual gifts\, just as the instructor did after discovering the 
 profound impact of Reiki.\n\nAs a child\, the instructor grappled with the
 ir unique spiritual abilities\, feeling both afraid and isolated. It wasn'
 t until their first Reiki Level One class that their life took a significa
 nt turn\, revealing their true purpose and transforming their understandin
 g of healing. Now\, with a deep commitment to guiding others\, the instruc
 tor aims to share this life-changing experience with new students.\n\nIn t
 his intimate workshop\, limited to just four participants\, attendees will
  delve into the fundamentals of Reiki and experience hands-on training in 
 this ancient healing art. The class will also incorporate sound healing in
 struments\, enriching the Reiki practice and enhancing the overall experie
 nce.\n\nJoin this exclusive opportunity to learn Reiki\, connect with your
  inner healer\, and contribute to a world of wellness and compassion. Secu
 re your spot today and start your journey towards becoming a skilled Reiki
  practitioner.\n\nGET TICKETS\n
ATTACH;FMTTYPE=image/jpeg:https://breatheatlanta.us/wp-content/uploads/202
 4/07/Atlanta-Reiki-Level-One-Sunday.jpg
CATEGORIES:Mindfulness Events,Things To Do,Wellness Events
END:VEVENT
BEGIN:VTIMEZONE
TZID:America/New_York
X-LIC-LOCATION:America/New_York
BEGIN:DAYLIGHT
DTSTART:20240310T030000
TZOFFSETFROM:-0500
TZOFFSETTO:-0400
TZNAME:EDT
END:DAYLIGHT
END:VTIMEZONE
END:VCALENDAR