BEGIN:VCALENDAR
VERSION:2.0
PRODID:-//wp-events-plugin.com//7.2.3.1//EN
TZID:America/New_York
X-WR-TIMEZONE:America/New_York
BEGIN:VEVENT
UID:68@breatheatlanta.us
DTSTART;TZID=America/New_York:20240621T160000
DTEND;TZID=America/New_York:20240623T120000
DTSTAMP:20240314T135528Z
URL:https://breatheatlanta.us/events/atlanta-wellness-weekend-2/
SUMMARY:Atlanta Wellness Weekend
DESCRIPTION:\nThe call to unwind and recharge echoed in the bustling heart 
 of Atlanta. A haven beckoned from the serene shores of Lake Stone Mountain
 \, promising a weekend dedicated to holistic wellness. The Atlanta Wellnes
 s Weekend\, hosted at the Atlanta Evergreen Lakeside Resort\, offered a ch
 ance to escape the everyday and prioritize well-being. This in-person even
 t wasn't just about physical fitness\; it was a multi-faceted journey towa
 rds a healthier\, more mindful you.\nNestled amidst the picturesque backdr
 op of Stone Mountain\, the Atlanta Evergreen Lakeside Resort provided the 
 perfect environment for rejuvenation. Imagine waking up to the gentle whis
 per of the lake breeze\, the morning sunlight dancing on the water's surfa
 ce. The resort itself would be an extension of your wellness experience. B
 reathe in the crisp air while strolling through the landscaped gardens\, o
 r unwind with a good book by the sparkling pool.\nThe Atlanta Wellness Wee
 kend wasn't a rigid itinerary of classes and routines. It was a tapestry w
 oven with diverse options\, allowing you to curate a personalized path to 
 wellness. Whether you craved an invigorating yoga session overlooking the 
 lake or a calming meditation workshop to quiet the mind\, the weekend cate
 red to your needs. Experienced instructors would guide you through a varie
 ty of fitness activities\, from high-energy Zumba to the mindful practice 
 of Tai Chi.\nBut the focus extended beyond the physical. The Atlanta Welln
 ess Weekend recognized the interconnectedness of mind\, body\, and spirit.
  Dedicated workshops would delve into topics like mindfulness and stress m
 anagement\, equipping you with tools to navigate the daily grind with grea
 ter peace. Nutrition experts would share insights into healthy eating habi
 ts\, empowering you to fuel your body with nourishing choices.\nThis would
 n't be a solitary journey towards wellness. The Atlanta Evergreen Lakeside
  Resort would transform into a vibrant community for the weekend. Imagine 
 sharing laughter and conversation with fellow participants over healthy me
 als prepared with fresh\, local ingredients. Engaging in lively discussion
 s during workshops\, forging connections with like-minded individuals who 
 shared your desire for a healthier lifestyle.\nThe Atlanta Wellness Weeken
 d wasn't just a two-day escape\; it was an investment in your long-term we
 ll-being. The skills and knowledge acquired during the weekend would serve
  as a springboard for lasting change. You'd return home equipped with prac
 tical tools and a renewed sense of purpose\, empowered to create a healthi
 er\, more balanced life. Imagine incorporating those morning stretches you
  learned into your daily routine\, or finding solace in the mindful breath
 ing techniques practiced during the workshops.\nThis wasn't just a weekend
 \; it was a chance to rewrite the narrative of your well-being. It was an 
 invitation to prioritize self-care\, to embrace a lifestyle that nurtured 
 your mind\, body\, and spirit. The Atlanta Wellness Weekend awaited\, a sa
 nctuary nestled amidst the beauty of Stone Mountain\, ready to guide you o
 n your personal journey towards a healthier\, happier you.\n\n
ATTACH;FMTTYPE=image/jpeg:https://breatheatlanta.us/wp-content/uploads/202
 4/03/https___cdn.evbuc_.com_images_625451019_1853948365573_1_original.jpeg
CATEGORIES:Wellness Events
LOCATION:Atlanta Evergreen Lakeside Resort\, Atlanta Evergreen Lakeside Res
 ort\, Lakeview Drive\, Stone Mountain\, GA\, USA\, Lakeview Drive\, GA\, 3
 0083\, GA\, United States
X-APPLE-STRUCTURED-LOCATION;VALUE=URI;X-ADDRESS=Atlanta Evergreen Lakeside 
 Resort\, Lakeview Drive\, Stone Mountain\, GA\, USA\, Lakeview Drive\, GA\
 , 30083\, GA\, United States;X-APPLE-RADIUS=100;X-TITLE=Atlanta Evergreen 
 Lakeside Resort:geo:0,0
END:VEVENT
BEGIN:VTIMEZONE
TZID:America/New_York
X-LIC-LOCATION:America/New_York
BEGIN:DAYLIGHT
DTSTART:20240310T030000
TZOFFSETFROM:-0500
TZOFFSETTO:-0400
TZNAME:EDT
END:DAYLIGHT
END:VTIMEZONE
END:VCALENDAR