BEGIN:VCALENDAR
VERSION:2.0
PRODID:-//wp-events-plugin.com//7.2.3.1//EN
TZID:America/New_York
X-WR-TIMEZONE:America/New_York
BEGIN:VEVENT
UID:30@breatheatlanta.us
DTSTART;TZID=America/New_York:20240621T000000
DTEND;TZID=America/New_York:20240623T000000
DTSTAMP:20240517T161137Z
URL:https://breatheatlanta.us/events/atlanta-wellness-weekend/
SUMMARY:Atlanta Wellness Weekend
DESCRIPTION:Event Information:\nExperience ultimate well-being at the Atlan
 ta Wellness Weekend at the picturesque Evergreen Lakeside Resort. Enjoy a 
 diverse lineup of activities designed to nourish your body and mind.\n\nDa
 te and Time: June 21 · 4 pm - June 23 · 12 pm EDT\n\nLocation: Atlanta E
 vergreen Lakeside Resort 4021 Lakeview Drive Stone Mountain\, GA 30083\, U
 SA\nAbout this Event:\nAtlanta Wellness Weekend is a 1 day and 20-hour in-
 person event at the Atlanta Evergreen Lakeside Resort. Experience a mind-b
 lowing lineup of activities that nourish your body and mind\, promoting we
 ll-being and a healthier lifestyle.\n\nHighlights:\n\n 	Mobile eTicket: Co
 nvenient access through a mobile eTicket.\n 	Rejuvenating Atmosphere: Esca
 pe to the scenic Atlanta Evergreen Lakeside Resort for a wellness weekend 
 dedicated to your well-being.\n\nTicket Information: Contact the organizer
  for refund requests. Eventbrite's fee is nonrefundable.\n\n&nbsp\;\n\nGET
  TICKETS\n\nWorkout Session Detail: Details on specific workout sessions a
 re not provided.\nEssential to Bring:\n\n 	Comfortable clothing for variou
 s activities\n 	Water bottle and hydration essentials\n 	Positive attitude
  and willingness to engage in wellness activities\n\nParking Option: Parki
 ng information is not provided. Check with Atlanta Evergreen Lakeside Reso
 rt for available parking details.\n\nEmbrace a healthier lifestyle at the 
 Atlanta Wellness Weekend\, a 1 day and 20-hour event at the scenic Evergre
 en Lakeside Resort. Join for a mind-blowing lineup of activities promoting
  well-being.
ATTACH;FMTTYPE=image/jpeg:https://breatheatlanta.us/wp-content/uploads/202
 4/03/wellness-weekend.jpg
CATEGORIES:Featured Events,Wellness Events
LOCATION:Atlanta Evergreen Lakeside Resort\, Atlanta Evergreen Lakeside Res
 ort\, Lakeview Drive\, Stone Mountain\, GA\, USA\, Lakeview Drive\, GA\, 3
 0083\, GA\, United States
X-APPLE-STRUCTURED-LOCATION;VALUE=URI;X-ADDRESS=Atlanta Evergreen Lakeside 
 Resort\, Lakeview Drive\, Stone Mountain\, GA\, USA\, Lakeview Drive\, GA\
 , 30083\, GA\, United States;X-APPLE-RADIUS=100;X-TITLE=Atlanta Evergreen 
 Lakeside Resort:geo:0,0
END:VEVENT
BEGIN:VTIMEZONE
TZID:America/New_York
X-LIC-LOCATION:America/New_York
BEGIN:DAYLIGHT
DTSTART:20240310T030000
TZOFFSETFROM:-0500
TZOFFSETTO:-0400
TZNAME:EDT
END:DAYLIGHT
END:VTIMEZONE
END:VCALENDAR