BEGIN:VCALENDAR
VERSION:2.0
PRODID:-//wp-events-plugin.com//7.2.3.1//EN
TZID:America/New_York
X-WR-TIMEZONE:America/New_York
BEGIN:VEVENT
UID:601@breatheatlanta.us
DTSTART;TZID=America/New_York:20241109T120000
DTEND;TZID=America/New_York:20241109T140000
DTSTAMP:20241012T174159Z
URL:https://breatheatlanta.us/events/atlanta-whine-and-w3rk-fit-camp/
SUMMARY:Atlanta Whine and W3rk Fit Camp
DESCRIPTION:The Atlanta Whine and W3rk Fit Camp is an exhilarating\, high-e
 nergy fitness experience designed to make participants break a sweat from 
 head to toe. Through dynamic workouts\, attendees will not only engage in 
 an intense full-body exercise but also enjoy themselves with lively dancin
 g and energetic "whining" movements. This unique blend of fitness and fun 
 ensures a workout that's both effective and entertaining. Get ready to mov
 e\, groove\, and Whine &amp\; W3rk in Atlanta\, where staying fit meets th
 e rhythm of dance!\n\nGET TICKETS\n
ATTACH;FMTTYPE=image/jpeg:https://breatheatlanta.us/wp-content/uploads/202
 4/10/Atlanta-Whine-and-W3rk-Fit-Camp.jpeg
CATEGORIES:Sports &amp; Fitness Events
LOCATION:Finao Fitness\, 3075 Jonquil \, Dr. SE Smyrna\, California\, 30080
 \, CA\, United States
X-APPLE-STRUCTURED-LOCATION;VALUE=URI;X-ADDRESS=3075 Jonquil \, Dr. SE Smyr
 na\, California\, 30080\, CA\, United States;X-APPLE-RADIUS=100;X-TITLE=Fi
 nao Fitness:geo:0,0
END:VEVENT
BEGIN:VTIMEZONE
TZID:America/New_York
X-LIC-LOCATION:America/New_York
BEGIN:STANDARD
DTSTART:20241103T010000
TZOFFSETFROM:-0400
TZOFFSETTO:-0500
TZNAME:EST
END:STANDARD
END:VTIMEZONE
END:VCALENDAR