BEGIN:VCALENDAR
VERSION:2.0
PRODID:-//wp-events-plugin.com//7.2.3.1//EN
TZID:America/New_York
X-WR-TIMEZONE:America/New_York
BEGIN:VEVENT
UID:641@breatheatlanta.us
DTSTART;TZID=America/New_York:20241031T210000
DTEND;TZID=America/New_York:20241101T010000
DTSTAMP:20241018T074326Z
URL:https://breatheatlanta.us/events/atlantas-biggest-caribbean-halloween-
 costume-party/
SUMMARY:Atlanta’s Biggest Caribbean Halloween Costume Party
DESCRIPTION:On Thursday\, October 31st\, Atlanta is set to host the BIGGEST
  Caribbean Halloween Costume Party in the city! This electrifying event\, 
 titled Detour Thursdays: Nightmare on Edgewood\, promises an unforgettable
  night filled with excitement\, energy\, and vibrant Caribbean culture.\n\
 nAttendees are encouraged to don their most creative and festive costumes 
 for a chance to stand out among the crowd. The party will feature TWO FLOO
 RS OF VIBES\, including a lively rooftop and a main floor that will keep t
 he energy soaring throughout the night.\n\nThe venue\, Cafe Circa\, locate
 d at 464 Edgewood Ave SE\, Atlanta\, GA 30212\, will be the ultimate desti
 nation for Halloween revelers seeking a unique experience. Those who RSVP 
 will enjoy FREE ADMISSION before 11 PM\, making it the perfect opportunity
  to gather friends and celebrate the spooky season.\n\nFor those looking t
 o elevate their night\, the main floor will offer exclusive packages:\n\n 
 	$150 Package: Includes one extra-large drink tower\, one hookah\, a reser
 ved high table that seats four guests\, and complimentary admission for fo
 ur guests.\n 	$350 Package: Features one premium bottle\, one hookah\, a r
 eserved section that seats six guests\, and complimentary admission for si
 x guests.\n\nPrepare for an epic night filled with Caribbean beats\, tanta
 lizing drinks\, and a festive atmosphere that will leave everyone buzzing.
  Join in the fun and be part of the most thrilling Halloween celebration A
 tlanta has to offer!\n\nGET TICKETS\n
ATTACH;FMTTYPE=image/jpeg:https://breatheatlanta.us/wp-content/uploads/202
 4/10/Atlantas-Biggest-Caribbean-Halloween-Costume-Party.jpg
CATEGORIES:Things To Do
LOCATION:Cafe Circa Restaurant & Lounge\, 464 Edgewood Avenue Southeast Atl
 anta\, Atlanta\, Georgia\, 30312\, GA\, United States
X-APPLE-STRUCTURED-LOCATION;VALUE=URI;X-ADDRESS=464 Edgewood Avenue Southea
 st Atlanta\, Atlanta\, Georgia\, 30312\, GA\, United States;X-APPLE-RADIUS
 =100;X-TITLE=Cafe Circa Restaurant & Lounge:geo:0,0
END:VEVENT
BEGIN:VTIMEZONE
TZID:America/New_York
X-LIC-LOCATION:America/New_York
BEGIN:DAYLIGHT
DTSTART:20240310T030000
TZOFFSETFROM:-0500
TZOFFSETTO:-0400
TZNAME:EDT
END:DAYLIGHT
END:VTIMEZONE
END:VCALENDAR