BEGIN:VCALENDAR
VERSION:2.0
PRODID:-//wp-events-plugin.com//7.2.3.1//EN
TZID:America/New_York
X-WR-TIMEZONE:America/New_York
BEGIN:VEVENT
UID:521@breatheatlanta.us
DTSTART;TZID=America/New_York:20241026T220000
DTEND;TZID=America/New_York:20241027T030000
DTSTAMP:20240930T091615Z
URL:https://breatheatlanta.us/events/atlantas-biggest-halloween-party-mons
 ter-ball-at-underground/
SUMMARY:Atlantas Biggest Halloween Party Monster Ball At Underground
DESCRIPTION:Atlanta’s largest Halloween celebration\, the Monster Ball\, 
 will take place at Underground Atlanta on Saturday\, October 26th.\n\nAtte
 ndees are in for a night of thrilling entertainment\, with $2\,000 in cash
  and prizes up for grabs. A standout prize of $1\,000 will be awarded to t
 he group with the best costume\, but only those with Express Entry tickets
  are eligible to participate in the costume contest.\n\nEarly arrival has 
 its perks\, as entry is free before 11 PM with RSVP. For those seeking a V
 IP experience\, Express Entry tickets start at just $20\, providing exclus
 ive benefits such as access to the costume contest and\, for VIP ticket ho
 lders\, free drinks from 10 PM to midnight.\n\nThis event is strictly for 
 guests aged 21 and over\, making it a must-attend Halloween party for adul
 ts looking to enjoy a night of spooky fun in the heart of Atlanta.\n\nGET 
 TICKETS\n
ATTACH;FMTTYPE=image/jpeg:https://breatheatlanta.us/wp-content/uploads/202
 4/09/Atlantas-Biggest-Halloween-Party-Monster-Ball-At-Underground.jpg
CATEGORIES:Things To Do
LOCATION:Underground Atlanta\, 50 Upper Alabama Street\, Atlanta\, Georgia\
 , 30303\, GA\, United States
X-APPLE-STRUCTURED-LOCATION;VALUE=URI;X-ADDRESS=50 Upper Alabama Street\, A
 tlanta\, Georgia\, 30303\, GA\, United States;X-APPLE-RADIUS=100;X-TITLE=U
 nderground Atlanta:geo:0,0
END:VEVENT
BEGIN:VTIMEZONE
TZID:America/New_York
X-LIC-LOCATION:America/New_York
BEGIN:DAYLIGHT
DTSTART:20240310T030000
TZOFFSETFROM:-0500
TZOFFSETTO:-0400
TZNAME:EDT
END:DAYLIGHT
END:VTIMEZONE
END:VCALENDAR