BEGIN:VCALENDAR
VERSION:2.0
PRODID:-//wp-events-plugin.com//7.2.3.1//EN
TZID:America/New_York
X-WR-TIMEZONE:America/New_York
BEGIN:VEVENT
UID:398@breatheatlanta.us
DTSTART;TZID=America/New_York:20240807T073000
DTEND;TZID=America/New_York:20240807T184500
DTSTAMP:20240802T063948Z
URL:https://breatheatlanta.us/events/automotive-innovators-tour-atlanta/
SUMMARY:Automotive Innovators Tour | Atlanta
DESCRIPTION:Join us for an exhilarating event in Atlanta where you’ll get
  an exclusive glimpse into the groundbreaking innovations shaping the auto
 motive industry. This tour promises a thrilling showcase of the latest adv
 ancements in automotive technology\, cutting-edge designs\, and visionary 
 concepts that are set to redefine the future of driving.\n\nEvent Details:
 \n\n 	Date: August 7\, 2024\n 	Time: 7:30 AM\n 	Location: Atlanta\, GA\n\n
 What to Expect:\n\n 	Exclusive Access: Get a firsthand look at the newest 
 innovations in the automotive world.\n 	Cutting-Edge Technology: Explore t
 he latest advancements that are driving the future of the industry.\n 	Sle
 ek Designs: Discover the modern aesthetics and design philosophies behind 
 the latest car models.\n 	Expert Insights: Learn from the leading minds in
  automotive innovation and gain valuable knowledge about the trends and te
 chnologies that are shaping the future of transportation.\n\nWhy Attend?\n
 \n 	Connect with Enthusiasts: Network with fellow car enthusiasts and indu
 stry professionals.\n 	Learn and Explore: Whether you’re a gearhead\, a 
 tech enthusiast\, or simply curious about the future of transportation\, t
 his event offers something for everyone.\n 	Inspiration: Be inspired by th
 e innovative spirit and cutting-edge advancements that are pushing the bou
 ndaries of what’s possible in the automotive world.\n\nRSVP Now! Secure 
 your spot on the Automotive Innovators Tour and be a part of this exciting
  journey into the future of driving. We can’t wait to see you there!\n\n
 Don’t Miss This Opportunity to Experience the Future of Automotive Innov
 ation!\n\nGET TICKETS\n
ATTACH;FMTTYPE=image/jpeg:https://breatheatlanta.us/wp-content/uploads/202
 4/08/Automotive-Innovators-Tour-Atlanta.jpg
CATEGORIES:Things To Do
LOCATION:Le Méridien Atlanta Perimeter\, 111 Perimeter Center West Atlanta
 \, Atlanta\, GA\, 30346\, GA\, United States
X-APPLE-STRUCTURED-LOCATION;VALUE=URI;X-ADDRESS=111 Perimeter Center West A
 tlanta\, Atlanta\, GA\, 30346\, GA\, United States;X-APPLE-RADIUS=100;X-TI
 TLE=Le Méridien Atlanta Perimeter:geo:0,0
END:VEVENT
BEGIN:VTIMEZONE
TZID:America/New_York
X-LIC-LOCATION:America/New_York
BEGIN:DAYLIGHT
DTSTART:20240310T030000
TZOFFSETFROM:-0500
TZOFFSETTO:-0400
TZNAME:EDT
END:DAYLIGHT
END:VTIMEZONE
END:VCALENDAR