BEGIN:VCALENDAR
VERSION:2.0
PRODID:-//wp-events-plugin.com//7.2.3.1//EN
TZID:America/New_York
X-WR-TIMEZONE:America/New_York
BEGIN:VEVENT
UID:438@breatheatlanta.us
DTSTART;TZID=America/New_York:20240914T130000
DTEND;TZID=America/New_York:20240914T150000
DTSTAMP:20240903T172235Z
URL:https://breatheatlanta.us/events/awakening-love-cacao-ceremony-with-he
 art-opening-breathwork-and-meditation/
SUMMARY:Awakening Love: Cacao Ceremony with Heart-opening Breathwork and Me
 ditation
DESCRIPTION:Experience a profound journey of love and self-discovery in thi
 s 2-hour transformative event. Hosted by Christina Della Iacono\, this cer
 emony invites participants to awaken their hearts and honor ancestral trad
 itions through the sacred use of ceremonial cacao.\n\nThe ceremony integra
 tes heart-opening breathwork\, guided meditation\, and a soothing medicine
  song bath led by Christina. Maura will share her ancestral wisdom\, deepl
 y rooted in the ancient Maya tradition\, enriched with the nurturing essen
 ce of Mama Cacao.\n\nGuided by the vision and mission of Maya Moon Cacao\,
  this gathering offers an opportunity for a soulful inward exploration\, f
 ostering a deeper connection with one’s inner self.\n\nThe experience co
 ncludes with a circle of gratitude and love\, where participants unite in 
 sharing and celebrating their heart's journey. Join us to embrace the heal
 ing power of cacao and cultivate a sense of unity and profound connection.
 \n\nGET TICKETS\n
ATTACH;FMTTYPE=image/jpeg:https://breatheatlanta.us/wp-content/uploads/202
 4/09/Awakening-Love-Cacao-Ceremony-with-Heart-opening-Breathwork-and-Medit
 ation.jpg
CATEGORIES:Mindfulness Events,Things To Do,Wellness Events
LOCATION:Aum Studio for Wellness\, 11550 Webb Bridge Way #Suite B2 Alpharet
 ta\, Atlanta\, Georgia\, 30005\, GA\, United States
X-APPLE-STRUCTURED-LOCATION;VALUE=URI;X-ADDRESS=11550 Webb Bridge Way #Suit
 e B2 Alpharetta\, Atlanta\, Georgia\, 30005\, GA\, United States;X-APPLE-R
 ADIUS=100;X-TITLE=Aum Studio for Wellness:geo:0,0
END:VEVENT
BEGIN:VTIMEZONE
TZID:America/New_York
X-LIC-LOCATION:America/New_York
BEGIN:DAYLIGHT
DTSTART:20240310T030000
TZOFFSETFROM:-0500
TZOFFSETTO:-0400
TZNAME:EDT
END:DAYLIGHT
END:VTIMEZONE
END:VCALENDAR