BEGIN:VCALENDAR
VERSION:2.0
PRODID:-//wp-events-plugin.com//7.2.3.1//EN
TZID:America/New_York
X-WR-TIMEZONE:America/New_York
BEGIN:VEVENT
UID:477@breatheatlanta.us
DTSTART;TZID=America/New_York:20241012T100000
DTEND;TZID=America/New_York:20241012T180000
DTSTAMP:20240923T175817Z
URL:https://breatheatlanta.us/events/awakening-the-healer-within-a-yoga-he
 aling-retreat/
SUMMARY:Awakening the Healer Within - A Yoga & Healing Retreat
DESCRIPTION:Join Simone and Dr. Nicholas Demetry\, M.D.\, for a transformat
 ive day of healing through yoga\, breath work\, meditation\, and sound the
 rapy. The retreat will feature Dr. Demetry’s enlightening talk titled 
 “Awakening the Healer Within\,” followed by guided meditation and heal
 ing exercises designed to restore balance and connect participants to thei
 r innate healing abilities.\n\nDr. Nicholas Demetry is a renowned holistic
  psychiatrist\, healer\, and spiritual teacher with over 30 years of exper
 ience in integrating spirituality and mental health. After earning his Med
 ical Degree from Emory University\, he furthered his studies in transcultu
 ral psychiatry at the University of Hawaii and worked extensively in Papua
  New Guinea\, where he observed the intersection of traditional shamanic h
 ealing practices and Western medicine. His spiritual journey led him to st
 udy under Cypriot mystic Dr. Stylianos Atteshlis (Daskalos)\, deepening hi
 s understanding of the connection between spirituality and healing.\n\nDr.
  Demetry currently operates a private practice in Atlanta and serves as th
 e director of the Etherikos Center\, where he offers classes and programs 
 worldwide. His unique blend of psychiatric knowledge and spiritual wisdom 
 provides profound insights into personal well-being and mental health.\nRe
 treat Schedule:\n\n 	10:00 AM: Check-in &amp\; Introductions @ Santosha St
 udio (ride-sharing encouraged)\n 	10:30 AM – 12:00 PM: Yoga Class (Asana
 s) with Simone\n 	12:00 PM – 1:35 PM: Lunch (provided)\n 	1:35 PM – 2:
 35 PM: "How to Awaken the Healer Within" with Dr. Demetri\n 	2:35 PM – 3
 :00 PM: Heal Thyself session with Dr. Nick\n 	3:15 PM – 3:45 PM: Break/L
 ight Snack (provided)\n 	3:45 PM – 4:15 PM: Guided Meditation with Dr. D
 emetri\n 	4:15 PM – 4:45 PM: Breathwork with Simone\n 	4:45 PM – 5:00 
 PM: Break\n 	5:00 PM – 6:00 PM: Restorative Yoga with Simone\n\nThis ret
 reat provides a sacred space to reconnect with yourself\, guided by two ex
 perienced healers. Whether through yoga\, breathwork\, or deep meditative 
 practices\, the day promises holistic rejuvenation and spiritual growth.\n
 \nPayment Information: For those who have previously attended Simone's cla
 sses\, payments can be sent directly via Zelle to avoid additional fees. N
 ew participants can reach out via email for payment details.\n\nGET TICKET
 S\n
ATTACH;FMTTYPE=image/jpeg:https://breatheatlanta.us/wp-content/uploads/202
 4/09/Awakening-The-Healer-Within-A-Yoga-Healing-Retreat.jpg
CATEGORIES:Wellness Events
LOCATION:Santosha Studio\, 896 Davis Drive Northwest Atlanta\, GA 30327 Uni
 ted States\, GA \,  United States\, 30327\, GA\, United States
X-APPLE-STRUCTURED-LOCATION;VALUE=URI;X-ADDRESS=896 Davis Drive Northwest A
 tlanta\, GA 30327 United States\, GA \,  United States\, 30327\, GA\, Unit
 ed States;X-APPLE-RADIUS=100;X-TITLE=Santosha Studio:geo:0,0
END:VEVENT
BEGIN:VTIMEZONE
TZID:America/New_York
X-LIC-LOCATION:America/New_York
BEGIN:DAYLIGHT
DTSTART:20240310T030000
TZOFFSETFROM:-0500
TZOFFSETTO:-0400
TZNAME:EDT
END:DAYLIGHT
END:VTIMEZONE
END:VCALENDAR