BEGIN:VCALENDAR
VERSION:2.0
PRODID:-//wp-events-plugin.com//7.2.3.1//EN
TZID:America/New_York
X-WR-TIMEZONE:America/New_York
BEGIN:VEVENT
UID:587@breatheatlanta.us
DTSTART;TZID=America/New_York:20241103T170000
DTEND;TZID=America/New_York:20241103T200000
DTSTAMP:20241009T145027Z
URL:https://breatheatlanta.us/events/ayurvedic-dinner-with-friends/
SUMMARY:Ayurvedic Dinner With Friends
DESCRIPTION:Experience a transformative evening of conscious eating and hol
 istic wellness at the Ayurvedic Dinner With Friends. This unique dining ex
 perience features a thoughtfully curated three-course meal that highlights
  the rich flavors of locally sourced and seasonal ingredients\, all prepar
 ed with the ancient wisdom of Ayurveda in mind.\n\nThe meal is designed to
  showcase the six essential tastes of Ayurveda: sweet\, sour\, salty\, pun
 gent\, bitter\, and astringent. Each dish aims to delight the palate while
  supporting optimal digestion and overall well-being. Guests will savor a 
 vibrant array of flavors\, igniting their taste buds and nourishing their 
 bodies.\n\nThroughout the dinner\, an Ayurvedic practitioner will lead par
 ticipants in understanding the principles of Ayurveda\, sharing valuable i
 nsights on how to align their diets with their unique constitutions. This 
 guidance promotes balance and harmony within both body and mind. Attendees
  will learn about the healing properties of various spices\, herbs\, and f
 oods\, along with practical tips on incorporating Ayurvedic practices into
  their daily routines for enhanced health and vitality.\n\nThis event invi
 tes guests to indulge in a meal that not only satisfies culinary cravings 
 but also nourishes the soul\, fostering a deep connection to themselves\, 
 the earth\, and the time-honored wisdom of Ayurveda. Join us for an unforg
 ettable evening of healing\, connection\, and self-discovery through the a
 rt of Ayurvedic cuisine!\n\nGET TICKETS\n
ATTACH;FMTTYPE=image/jpeg:https://breatheatlanta.us/wp-content/uploads/202
 4/10/Ayurvedic-Dinner-With-Friends.jpeg
CATEGORIES:Food &amp; Drink Events
LOCATION:Ry's Table\, 914 Pinehurst Terrace Southwest Atlanta\, Atlanta\, G
 eorgia\, 30328\, 30310\, United States
X-APPLE-STRUCTURED-LOCATION;VALUE=URI;X-ADDRESS=914 Pinehurst Terrace South
 west Atlanta\, Atlanta\, Georgia\, 30328\, 30310\, United States;X-APPLE-R
 ADIUS=100;X-TITLE=Ry's Table:geo:0,0
END:VEVENT
BEGIN:VTIMEZONE
TZID:America/New_York
X-LIC-LOCATION:America/New_York
BEGIN:STANDARD
DTSTART:20241103T010000
TZOFFSETFROM:-0400
TZOFFSETTO:-0500
TZNAME:EST
END:STANDARD
END:VTIMEZONE
END:VCALENDAR