BEGIN:VCALENDAR
VERSION:2.0
PRODID:-//wp-events-plugin.com//7.2.3.1//EN
TZID:America/New_York
X-WR-TIMEZONE:America/New_York
BEGIN:VEVENT
UID:705@breatheatlanta.us
DTSTART;TZID=America/New_York:20241116T090000
DTEND;TZID=America/New_York:20241116T103000
DTSTAMP:20241024T175555Z
URL:https://breatheatlanta.us/events/b12-clinic/
SUMMARY:B12 Clinic
DESCRIPTION:As the new year begins\, many find themselves feeling fatigued 
 and low on energy. If you're struggling to keep up with your busy life or 
 just need an extra boost to start the year strong\, the B12 Energy Boost C
 linic is here to help! This event offers a quick and effective solution to
  combat exhaustion and support your overall vitality through a B12 injecti
 on.\n\nWith only 25 seats available\, this is an exclusive opportunity to 
 get back on track and recharge your energy levels. B12 is known for improv
 ing mood\, increasing energy\, and supporting a healthy immune system. It'
 s the perfect way to reset and revitalize as you enter the new year.\n\nAt
 tendees will receive expert care in a comfortable setting\, ensuring that 
 the experience is both beneficial and relaxing. Don't wait—tickets are l
 imited\, and they’re selling fast! Please note that this is a non-refund
 able event\, so be sure to secure your spot while spaces are still availab
 le.\n\nEvent Highlights:\n\n 	B12 injections to boost energy and well-bein
 g\n 	Expert care in a comfortable environment\n 	Limited to 25 participant
 s for personalized attention\n\nStart your year with a health-focused rese
 t—grab your tickets today and feel the difference!\n\nGET TICKETS\n
ATTACH;FMTTYPE=image/jpeg:https://breatheatlanta.us/wp-content/uploads/202
 4/10/B12-Clinic.jpeg
CATEGORIES:Wellness Events
LOCATION:1899 Powers Ferry Rd\, 1899 Powers Ferry Road\, Suite 170 Atlanta\
 , Atlanta\, 30339\, GA\, United States
X-APPLE-STRUCTURED-LOCATION;VALUE=URI;X-ADDRESS=1899 Powers Ferry Road\, Su
 ite 170 Atlanta\, Atlanta\, 30339\, GA\, United States;X-APPLE-RADIUS=100;
 X-TITLE=1899 Powers Ferry Rd:geo:0,0
END:VEVENT
BEGIN:VTIMEZONE
TZID:America/New_York
X-LIC-LOCATION:America/New_York
BEGIN:STANDARD
DTSTART:20241103T010000
TZOFFSETFROM:-0400
TZOFFSETTO:-0500
TZNAME:EST
END:STANDARD
END:VTIMEZONE
END:VCALENDAR