BEGIN:VCALENDAR
VERSION:2.0
PRODID:-//wp-events-plugin.com//7.2.3.1//EN
TZID:America/New_York
X-WR-TIMEZONE:America/New_York
BEGIN:VEVENT
UID:777@breatheatlanta.us
DTSTART;TZID=America/New_York:20250319T190000
DTEND;TZID=America/New_York:20250319T210000
DTSTAMP:20250212T023245Z
URL:https://breatheatlanta.us/events/back-to-the-bone-with-alex-simmons/
SUMMARY:Back to the Bone with Alex Simmons
DESCRIPTION:Rebuilding Bone Health with Alex Simmons\nDiscover the latest a
 dvancements in bone health with Alex Simmons\, the visionary Founder and C
 EO of Wholebody Systems. With over 13 years of dedicated experience\, he h
 as pioneered innovative approaches to diagnosing and treating bone loss. H
 is work integrates cutting-edge medical technologies\, extensive research\
 , and strategic collaborations to revolutionize bone health management.\nI
 n this insightful session\, Simmons delves into the science behind bone st
 rength\, prevention strategies\, and the most effective treatments availab
 le today. By combining expertise with evidence-based solutions\, he empowe
 rs individuals to maintain strong and resilient bones—ensuring long-term
  skeletal health for years to come.\nJoin Alex Simmons as he unpacks the l
 atest breakthroughs in bone care\, equipping you with the knowledge to saf
 eguard your bone health today\, tomorrow\, and well into the future.\n\n\n
 GET TICKETS\n
ATTACH;FMTTYPE=image/jpeg:https://breatheatlanta.us/wp-content/uploads/202
 5/02/Back-to-the-Bone-with-Alex-Simmons.jpg
CATEGORIES:Wellness Events
LOCATION:Wholebody Systems\, 4600 West Village Place\, 4011 Smyrna\, 30080\
 , GA\, United States
X-APPLE-STRUCTURED-LOCATION;VALUE=URI;X-ADDRESS=4600 West Village Place\, 4
 011 Smyrna\, 30080\, GA\, United States;X-APPLE-RADIUS=100;X-TITLE=Wholebo
 dy Systems:geo:0,0
END:VEVENT
BEGIN:VTIMEZONE
TZID:America/New_York
X-LIC-LOCATION:America/New_York
BEGIN:DAYLIGHT
DTSTART:20250309T030000
TZOFFSETFROM:-0500
TZOFFSETTO:-0400
TZNAME:EDT
END:DAYLIGHT
END:VTIMEZONE
END:VCALENDAR