BEGIN:VCALENDAR
VERSION:2.0
PRODID:-//wp-events-plugin.com//7.2.3.1//EN
TZID:America/New_York
X-WR-TIMEZONE:America/New_York
BEGIN:VEVENT
UID:451@breatheatlanta.us
DTSTART;TZID=America/New_York:20240922T080000
DTEND;TZID=America/New_York:20240922T180000
DTSTAMP:20240914T180057Z
URL:https://breatheatlanta.us/events/ballethnic-wellness-day-3/
SUMMARY:Ballethnic Wellness Day
DESCRIPTION:Ballethnic Dance Company continues its commitment to uplifting 
 and supporting the community with its upcoming Wellness Day Retreat\, a fu
 ll-day immersive experience designed to nourish and rejuvenate. Scheduled 
 on the autumn equinox—a moment of balance and renewal—this retreat off
 ers a perfect opportunity for participants to reset and recharge both mind
  and body.\n\nThe Wellness Day will feature a diverse range of healing pra
 ctices including yoga\, breathwork\, meditation\, myofascial release\, the
 rapeutic stretch\, floor barre\, and memory work. Guests can also enjoy a 
 healing drum circle\, explore their creativity through painting\, reconnec
 t with nature in a mindful gardening session\, and finish with a soothing 
 full sound bath.\n\nIn collaboration with expert wellness professionals fr
 om the local community\, each session is thoughtfully crafted to provide h
 ands-on healing and guide participants toward greater physical\, emotional
 \, and spiritual alignment. Ballethnic’s mission of fostering holistic w
 ell-being through movement and culture shines brightly in this event\, mak
 ing it more than just a retreat—it’s a journey toward harmony and self
 -care.\n\nWhether you're seeking relaxation\, emotional clarity\, or simpl
 y a day of self-discovery\, Ballethnic Wellness Day offers something for e
 veryone. Join us for a transformative day that promises to leave you feeli
 ng refreshed\, balanced\, and inspired!\n\nGET TICKETS\n
ATTACH;FMTTYPE=image/jpeg:https://breatheatlanta.us/wp-content/uploads/202
 4/09/Ballethnic-Wellness-Day.jpg
CATEGORIES:Retreats Events,Things To Do,Wellness Events
LOCATION:Ballethnic Dance Co\, 2587 Cheney Street \, East Point\, \, United
  States\, 30344 \, GA \, United States
X-APPLE-STRUCTURED-LOCATION;VALUE=URI;X-ADDRESS=2587 Cheney Street \, East 
 Point\, \, United States\, 30344 \, GA \, United States;X-APPLE-RADIUS=100
 ;X-TITLE=Ballethnic Dance Co:geo:0,0
END:VEVENT
BEGIN:VTIMEZONE
TZID:America/New_York
X-LIC-LOCATION:America/New_York
BEGIN:DAYLIGHT
DTSTART:20240310T030000
TZOFFSETFROM:-0500
TZOFFSETTO:-0400
TZNAME:EDT
END:DAYLIGHT
END:VTIMEZONE
END:VCALENDAR