BEGIN:VCALENDAR
VERSION:2.0
PRODID:-//wp-events-plugin.com//7.2.3.1//EN
TZID:America/New_York
X-WR-TIMEZONE:America/New_York
BEGIN:VEVENT
UID:217@breatheatlanta.us
DTSTART;TZID=America/New_York:20240421T080000
DTEND;TZID=America/New_York:20240421T180000
DTSTAMP:20240404T101825Z
URL:https://breatheatlanta.us/events/ballethnic-wellness-day/
SUMMARY:Ballethnic Wellness Day
DESCRIPTION:Come and be part of the Ballethnic Wellness Day\, an uplifting 
 event dedicated to enhancing both physical and mental well-being.\n\nEvent
  Information:\n\nEvent Name: Ballethnic Wellness Day\n\nHost: Ballethnic D
 ance Company\n\nDate and Time: Sunday\, April 21 • 8am - 6pm EDT\n\nLoca
 tion: Ballethnic Dance Co\, 2587 Cheney Street\, East Point\, GA 30344\, U
 nited States\n\nAbout this Event: Experience the Ballethnic Wellness Day\,
  an invigorating event dedicated to enhancing physical and mental well-bei
 ng. Immerse yourself in a day filled with movement\, mindfulness\, and sel
 f-care.\n\nThis rejuvenating full-day event will combine the principles of
  dance with the importance of self-care and self-inquiry. Partnering with 
 knowledgeable and compassionate wellness professionals\, the Ballethnic Da
 nce Company aims to facilitate impactful hands-on healing sessions aimed t
 o align the mind\, body\, and soul.\n\nEngage in a variety of activities i
 ncluding guided meditation\, sound healing\, yoga\, floor barre\, gardenin
 g\, healing drum circle\, therapeutic stretch\, and a discussion led by he
 althcare professionals about understanding health numbers.\n\nTake a break
  from your daily routine and indulge in a weekend of self-care. Connect wi
 th like-minded individuals who share a passion for dance and wellness. Emb
 race the opportunity to nourish your body and soul\, explore new movements
 \, and embrace your creativity.\n\nDon't miss this incredible experience! 
 Reserve your spot today and embark on a journey of self-discovery and tran
 sformation at the Ballethnic Wellness Day.\n\nTicket Price:\n\nGeneral Adm
 ission: $60.00 (+$4.95 Fee)\, sales end on Apr 21\, 2024\n\nSenior Citizen
  Discount (aged 55+): $30.00 (+$2.97 Fee)\, sales end on Apr 21\, 2024\n\n
 GET TICKETS\n\n
ATTACH;FMTTYPE=image/jpeg:https://breatheatlanta.us/wp-content/uploads/202
 4/04/7897789787.jpg
CATEGORIES:Wellness Events
LOCATION:Ballethnic Dance Co\, 2587 Cheney Street \, East Point\, \, United
  States\, 30344 \, GA \, United States
X-APPLE-STRUCTURED-LOCATION;VALUE=URI;X-ADDRESS=2587 Cheney Street \, East 
 Point\, \, United States\, 30344 \, GA \, United States;X-APPLE-RADIUS=100
 ;X-TITLE=Ballethnic Dance Co:geo:0,0
END:VEVENT
BEGIN:VTIMEZONE
TZID:America/New_York
X-LIC-LOCATION:America/New_York
BEGIN:DAYLIGHT
DTSTART:20240310T030000
TZOFFSETFROM:-0500
TZOFFSETTO:-0400
TZNAME:EDT
END:DAYLIGHT
END:VTIMEZONE
END:VCALENDAR