BEGIN:VCALENDAR
VERSION:2.0
PRODID:-//wp-events-plugin.com//7.2.3.1//EN
TZID:America/New_York
X-WR-TIMEZONE:America/New_York
BEGIN:VEVENT
UID:558@breatheatlanta.us
DTSTART;TZID=America/New_York;VALUE=DATE:20241020
DTEND;TZID=America/New_York;VALUE=DATE:20241121
DTSTAMP:20241007T102017Z
URL:https://breatheatlanta.us/events/barks-and-bites-doggie-crawl-on-the-a
 tlanta-beltline/
SUMMARY:Barks and Bites: Doggie Crawl on the Atlanta BeltLine
DESCRIPTION:Get ready for a one-of-a-kind experience that both you and your
  furry friend will love! Barks and Bites: Doggie Crawl invites you to expl
 ore the Atlanta BeltLine with your dog by your side\, enjoying gourmet tre
 ats\, refreshing drinks\, and socializing with fellow pet lovers. This fun
 -filled event combines dining\, shopping\, and supporting a great cause\, 
 making it the perfect outing for dog owners who want to treat their pups t
 o something special.\n\nWhat to Expect:\n\n 	Paw-some Treats: Savor Atlant
 a’s top dog-friendly restaurants where your pup will be pampered with go
 urmet dog treats.\n 	"Barkaritas": Sip on a playful twist of cocktails mad
 e with Brutus Bone Broth – because here\, it’s always dog o’clock!\n
  	Small Bites &amp\; Craft Beer: Enjoy delicious bites paired with your ch
 oice of a craft beer or soda while your pup indulges.\n 	Pet Shopping Spre
 e: Browse pet boutiques like Woofgang Bakery and The Clean Dog\, and pick 
 up treat bags filled with goodies for your dog to enjoy at home.\n 	Exclus
 ive Giveaways: Score freebies from pet brands like Piedmont Bark\, Ruby’
 s Rootin’ Snootin’ Snuffles\, Brutus Bone Broth\, Farmina Pet Foods\, 
 Big Daddy Biscuits\, and more!\n 	Fun Social Outing: Meet fellow dog lover
 s as you and your pup bond over bites\, drinks\, and tail-wagging exciteme
 nt.\n 	Support a Good Cause: A portion of the proceeds goes toward Atlanta
  animal rescue organizations\, helping pets find loving forever homes.\n\n
 Whether you're a local or just passing through\, Barks and Bites: Doggie C
 rawl is the ultimate way to spend quality time with your pup\, explore new
  places\, and give back to pets in need. Don’t miss out—mark your cale
 ndars\, leash up\, and get ready for an unforgettable adventure with your 
 four-legged best friend!\n\nGET TICKETS\n
ATTACH;FMTTYPE=image/jpeg:https://breatheatlanta.us/wp-content/uploads/202
 4/10/Barks-and-Bites-Doggie-Crawl-on-the-Atlanta-BeltLine.webp
CATEGORIES:Things To Do
LOCATION:Atlanta BeltLine\, 619 Edgewood Ave SE\, Atlanta\, Georgia\, 30312
 \, GA\, United States
X-APPLE-STRUCTURED-LOCATION;VALUE=URI;X-ADDRESS=619 Edgewood Ave SE\, Atlan
 ta\, Georgia\, 30312\, GA\, United States;X-APPLE-RADIUS=100;X-TITLE=Atlan
 ta BeltLine:geo:0,0
END:VEVENT
BEGIN:VTIMEZONE
TZID:America/New_York
X-LIC-LOCATION:America/New_York
BEGIN:DAYLIGHT
DTSTART:20240310T030000
TZOFFSETFROM:-0500
TZOFFSETTO:-0400
TZNAME:EDT
END:DAYLIGHT
BEGIN:STANDARD
DTSTART:20241103T010000
TZOFFSETFROM:-0400
TZOFFSETTO:-0500
TZNAME:EST
END:STANDARD
END:VTIMEZONE
END:VCALENDAR