BEGIN:VCALENDAR
VERSION:2.0
PRODID:-//wp-events-plugin.com//7.2.3.1//EN
TZID:America/New_York
X-WR-TIMEZONE:America/New_York
BEGIN:VEVENT
UID:171@breatheatlanta.us
DTSTART;TZID=America/New_York:20240430T173000
DTEND;TZID=America/New_York:20240430T181500
DTSTAMP:20240328T090859Z
URL:https://breatheatlanta.us/events/battle-box-battle-zone-bootcamp-sessi
 on/
SUMMARY:Battle Box Battle Zone Bootcamp Session
DESCRIPTION:\n\n\n\n\n\n\n\n\n\n\n\n\nEngage in our invigorating Full Body 
 Signature 5 Zone Bootcamp Session\, meticulously crafted to target every m
 uscle group\, providing a holistic and dynamic workout experience that lea
 ves you feeling empowered and revitalized.\n\n\n\n\n\n\n\n\n\n\n\n\n\nEven
 t Information:\n\nEvent: Battle Box Battle Zone Bootcamp Session\n\nHost: 
 Battle Box Wellness\n\nDate and Time: Tuesday\, April 30\, 5:30 - 6:15 PM 
 EDT.\n\nLocation: 1185 West Ave SW\, Conyers\, GA\, USA\n\nTicket Informat
 ion:\n\nGeneral Admission: $10.00\n\nFees: $2.51\n\nSales Tax: $0.75\n\nTo
 tal: $13.26\n\nGET TICKETS\n\n\n\nAbout this Event: An unforgettable fitn
 ess challenge at the Battle Box Bootcamp Session. This high-energy event i
 s your opportunity to push your limits and sweat it out in a dynamic\, in-
 person setting.\n\nWorkout Session Detail: Experience the intensity of ou
 r signature 5-zone boot camp session\, meticulously designed to engage eve
 ry muscle group\, delivering a comprehensive full-body workout.\n\nEssenti
 als to Bring: Come prepared with your workout gear and a positive mindset\
 , ready to conquer every challenge with determination. Don't forget to bri
 ng water to stay hydrated throughout the session.\n\nParking Option: Speci
 fic parking information is not provided. Please check local parking availa
 bility near the event location.\n\nNote: New participants signing up on th
 e day of the event will receive a $10 credit towards our regularly priced 
 plan. We kindly request that you do not RSVP if you are unable to attend\,
  as no-shows forfeit future FREE 1st visits. Your RSVP is essential for ou
 r instructors' planning. Thank you for your understanding.\n\n
ATTACH;FMTTYPE=image/jpeg:https://breatheatlanta.us/wp-content/uploads/202
 4/03/https___cdn.evbuc_.com_images_663105759_1589298222283_1_original.jpeg
CATEGORIES:Wellness Events,Yoga Events
LOCATION:1185 West Ave SW\, 1185 West Avenue Southwest Conyers\, GA 30012 U
 nited States\, \, GA  \, United States\, 30012\, GA\, United States
X-APPLE-STRUCTURED-LOCATION;VALUE=URI;X-ADDRESS=1185 West Avenue Southwest 
 Conyers\, GA 30012 United States\, \, GA  \, United States\, 30012\, GA\, 
 United States;X-APPLE-RADIUS=100;X-TITLE=1185 West Ave SW:geo:0,0
END:VEVENT
BEGIN:VTIMEZONE
TZID:America/New_York
X-LIC-LOCATION:America/New_York
BEGIN:DAYLIGHT
DTSTART:20240310T030000
TZOFFSETFROM:-0500
TZOFFSETTO:-0400
TZNAME:EDT
END:DAYLIGHT
END:VTIMEZONE
END:VCALENDAR