BEGIN:VCALENDAR
VERSION:2.0
PRODID:-//wp-events-plugin.com//7.2.3.1//EN
TZID:America/New_York
X-WR-TIMEZONE:America/New_York
BEGIN:VEVENT
UID:170@breatheatlanta.us
DTSTART;TZID=America/New_York:20240426T050000
DTEND;TZID=America/New_York:20240426T054500
DTSTAMP:20240328T085130Z
URL:https://breatheatlanta.us/events/battle-box-signature-battle-zone-boot
 -camp/
SUMMARY:Battle Box Signature Battle Zone Boot Camp
DESCRIPTION:\n\n\n\n\n\n\n\n\nImmerse yourself in the transformative experi
 ence of our Signature 5 battle zone boot camp session\, meticulously desig
 ned to engage every muscle group\, providing a comprehensive full-body wor
 kout that will leave you feeling empowered and invigorated.\n\nEvent Infor
 mation:\n\nEvent: Battle Box Signature Battle Zone Boot Camp\n\nDate and T
 ime: Friday\, April 26\, 5:00 - 5:45 AM EDT.\n\nLocation: 1185 West Ave SW
 \, Conyers\, GA\, USA\n\nTicket Information:\n\nGeneral Admission: $10.00\
 n\nFees: $2.51\n\nSales Tax: $0.75\n\nTotal: $13.26\n\nGET TICKETS\n\n\n\n
 Workout Session Detail: Embark on a transformative journey with our Signat
 ure 5 battle zone boot camp session\, meticulously crafted to provide a fu
 ll-body workout experience.\n\nAbout this Event: An exhilarating workout s
 ession at the Battle Box Bootcamp. This high-energy event promises to push
  your limits and elevate your fitness journey. Located at 1185 West Ave SW
 \, Conyers\, GA\, USA\, this in-person boot camp caters to individuals of 
 all fitness levels.\n\nEssentials to Bring: Bring your workout gear\, a wa
 ter bottle\, and your determination to conquer every challenge that comes 
 your way.\n\nParking Option: Specific parking information is not provided.
  Please check local parking availability near the event location.\n\nNote:
  New participants signing up on the day of the event will receive a $10 cr
 edit towards our regularly priced plan. We kindly request that you do not 
 RSVP if you are unable to attend\, as no-shows forfeit future FREE 1st vis
 its. Your RSVP is essential for our instructors' planning. Thank you for y
 our understanding.\n\n\n\n\n\n\n\n\n\n
ATTACH;FMTTYPE=image/jpeg:https://breatheatlanta.us/wp-content/uploads/202
 4/03/https___cdn.evbuc_.com_images_663105759_1589298222283_1_original.jpeg
CATEGORIES:Wellness Events,Yoga Events
LOCATION:1185 West Ave SW\, 1185 West Avenue Southwest Conyers\, GA 30012 U
 nited States\, GA\, United States\,  30012\, GA\, United States
X-APPLE-STRUCTURED-LOCATION;VALUE=URI;X-ADDRESS=1185 West Avenue Southwest 
 Conyers\, GA 30012 United States\, GA\, United States\,  30012\, GA\, Unit
 ed States;X-APPLE-RADIUS=100;X-TITLE=1185 West Ave SW:geo:0,0
END:VEVENT
BEGIN:VTIMEZONE
TZID:America/New_York
X-LIC-LOCATION:America/New_York
BEGIN:DAYLIGHT
DTSTART:20240310T030000
TZOFFSETFROM:-0500
TZOFFSETTO:-0400
TZNAME:EDT
END:DAYLIGHT
END:VTIMEZONE
END:VCALENDAR