BEGIN:VCALENDAR
VERSION:2.0
PRODID:-//wp-events-plugin.com//7.2.3.1//EN
TZID:America/New_York
X-WR-TIMEZONE:America/New_York
BEGIN:VEVENT
UID:169@breatheatlanta.us
DTSTART;TZID=America/New_York:20240425T060000
DTEND;TZID=America/New_York:20240425T063000
DTSTAMP:20240328T083358Z
URL:https://breatheatlanta.us/events/battle-box-spin-fitness-30/
SUMMARY:Battle Box Spin Fitness 30
DESCRIPTION:\n\n\n\n\n\n\n\n\n\n\n\n\n\n\n\n\n\n\n\n\n\n\n\n\nExperience th
 e invigorating Battle Box Signature full-body spin class\, uniquely infuse
 d with the challenge of weights and resistance\, designed to sculpt and st
 rengthen every muscle group with dynamic precision.\n\n\n\n\n\n\n\n\n\n\n\
 n\n\nEvent Information:\n\nEvent: Battle Box Spin Fitness 30\n\nDate and T
 ime: Thursday\, April 25\, 6:00 - 6:30 AM EDT.\n\nLocation: 1185 West Ave 
 SW\, Conyers\, GA\, USA\n\nTicket Information:\n\nGeneral Admission: $10.0
 0\n\nFees: $2.51\n\nSales Tax: $0.75\n\nTotal: $13.26\n\nGET TICKETS\n\n\n
 \nAbout this Event: Experience 30 minutes of pure intensity in the Battle 
 Box Spin Session. This epic fitness challenge promises to push your limits
  and leave you energized. Located at 1185 West Ave SW\, Conyers\, GA\, USA
 \, this in-person event offers a dynamic environment where participants of
  all fitness levels can thrive.\n\n\nWorkout Session Detail: Immerse your
 self in the Battle Box Signature full-body spin class\, meticulously craft
 ed to elevate your fitness journey. This exhilarating session integrates 
 weights and resistance to challenge your endurance and sculpt your physiqu
 e.\n\n\nEssentials to Bring: Come prepared with your workout gear\, a wate
 r bottle\, and your unwavering determination to conquer every pedal stroke
 .\n\nParking Option: Specific parking information is not provided. Please 
 check local parking availability near the event location.\n\nNote: New par
 ticipants signing up on the day of the event will receive a $10 credit tow
 ards our regularly priced plan. Our friendly community of fitness enthusia
 sts and embark on an unforgettable journey towards strength\, endurance\, 
 and vitality.\n\n\n\n\n\n\n\n\n\n\n\n\n\n\n\n\n\n\n\n\n\n\n\n\n\n
ATTACH;FMTTYPE=image/jpeg:https://breatheatlanta.us/wp-content/uploads/202
 4/03/https___cdn.evbuc_.com_images_663101019_1589298222283_1_original-1.jp
 eg
CATEGORIES:Wellness Events,Yoga Events
LOCATION:1185 West Ave SW\, 1185 West Avenue Southwest Conyers\, GA 30012 U
 nited States\,  GA  \, United States\, 30012\, GA\, United States
X-APPLE-STRUCTURED-LOCATION;VALUE=URI;X-ADDRESS=1185 West Avenue Southwest 
 Conyers\, GA 30012 United States\,  GA  \, United States\, 30012\, GA\, Un
 ited States;X-APPLE-RADIUS=100;X-TITLE=1185 West Ave SW:geo:0,0
END:VEVENT
BEGIN:VTIMEZONE
TZID:America/New_York
X-LIC-LOCATION:America/New_York
BEGIN:DAYLIGHT
DTSTART:20240310T030000
TZOFFSETFROM:-0500
TZOFFSETTO:-0400
TZNAME:EDT
END:DAYLIGHT
END:VTIMEZONE
END:VCALENDAR