BEGIN:VCALENDAR
VERSION:2.0
PRODID:-//wp-events-plugin.com//7.2.3.1//EN
TZID:America/New_York
X-WR-TIMEZONE:America/New_York
BEGIN:VEVENT
UID:96@breatheatlanta.us
DTSTART;TZID=America/New_York:20240402T191000
DTEND;TZID=America/New_York:20240402T200000
DTSTAMP:20240320T073713Z
URL:https://breatheatlanta.us/events/battle-box-wellness-yoga-session/
SUMMARY:Battle Box Wellness Yoga Session
DESCRIPTION:Prepare to embark on a profound and transformative journey as y
 ou step into our Yoga class\, where the art of movement intertwines with t
 he intricate energy centers of your body. Through each posture\, breathe\,
  and gentle flow\, immerse yourself in an exploration of self-discovery an
 d holistic wellness\, aligning mind\, body\, and spirit. Feel the resonanc
 e of your energy centers as they awaken and harmonize\, guiding you toward
  a deeper understanding of yourself and the world around you\n\nEvent Info
 rmation:\n\nEvent Name: Battle Box Wellness Yoga Session\n\nHost: Battle B
 ox Wellness\n\nDate and Time: Tuesday\, April 2\, 7:10 - 8:00 PM EDT\n\nLo
 cation: 1185 West Avenue Southwest\, Conyers\, GA 30012\, United States\n\
 nAbout this Event:\n\nEmbark on a transformative journey within our Yoga c
 lass\, designed to synchronize movement with the body's energy centers. De
 lve into the exploration of the chakra system through dynamic yoga sequenc
 es\, fostering balance\, flexibility\, and alignment. While we do have a f
 ew mats available\, we encourage participants to bring their own for added
  comfort and convenience. Restrooms are available on-site\, along with ven
 ding options for hydration.\n\nTicket Information:\n\nGeneral Admission: $
 10.00\n\nFees: $2.51\n\nSales Tax: $0.75\n\nDelivery: eTicket\, no additio
 nal charge\n\nTotal: $13.26\n\n&nbsp\;\n\nGET TICKETS\n\n\nDuration: 50 mi
 nutes\n\nHarmonizing movement with the body's energy centers\n\nExploratio
 n of the chakra system through yoga sequences\n\nEssential for Bring:\n\nY
 oga mat (encouraged)\n\nWater bottle\n\nParking Option:\n\nParking is avai
 lable at the event location.\n\nRefund Policy:\n\nContact the organizer to
  request a refund. Eventbrite's fee is nonrefundable.
ATTACH;FMTTYPE=image/jpeg:https://breatheatlanta.us/wp-content/uploads/202
 4/03/789.jpg
CATEGORIES:Wellness Events,Yoga Events
LOCATION:1185 West Ave SW\, 1185 West Avenue Southwest Conyers\, GA 30012 U
 nited States\,  Conyers\,  United States\, 30012\,  GA \, United States
X-APPLE-STRUCTURED-LOCATION;VALUE=URI;X-ADDRESS=1185 West Avenue Southwest 
 Conyers\, GA 30012 United States\,  Conyers\,  United States\, 30012\,  GA
  \, United States;X-APPLE-RADIUS=100;X-TITLE=1185 West Ave SW:geo:0,0
END:VEVENT
BEGIN:VTIMEZONE
TZID:America/New_York
X-LIC-LOCATION:America/New_York
BEGIN:DAYLIGHT
DTSTART:20240310T030000
TZOFFSETFROM:-0500
TZOFFSETTO:-0400
TZNAME:EDT
END:DAYLIGHT
END:VTIMEZONE
END:VCALENDAR