BEGIN:VCALENDAR
VERSION:2.0
PRODID:-//wp-events-plugin.com//7.2.3.1//EN
TZID:America/New_York
X-WR-TIMEZONE:America/New_York
BEGIN:VEVENT
UID:322@breatheatlanta.us
DTSTART;TZID=America/New_York:20240620T190000
DTEND;TZID=America/New_York:20240620T220000
DTSTAMP:20240627T050228Z
URL:https://breatheatlanta.us/events/bbf-mental-health-linen-ball/
SUMMARY:BBF Mental Health Linen Ball
DESCRIPTION:Experience a night of fun and awareness at the Mental Health Li
 nen Ball hosted by BBF. Join us for an in-person event located at 3382 GA-
 5. It's an evening dedicated to dancing\, mingling\, and raising awareness
  about mental health in a stylish and elegant setting.\n\nEvent Details:\n
 \n 	Date and Location: The event will take place at 3382 GA-5 on.\n 	Activ
 ities: Enjoy dancing\, mingling\, and socializing with like-minded individ
 uals while supporting a great cause.\n 	Dress Code: Dress to impress in yo
 ur finest linen attire for a stylish and classy evening.\n\nWhy Attend?\n\
 n 	Supporting Mental Health: By attending\, you contribute to raising awar
 eness about mental health and supporting those affected by mental health c
 hallenges.\n 	Community Engagement: Connect with others who share a passio
 n for mental health advocacy and awareness.\n 	Fun and Entertainment: Danc
 e the night away and enjoy a fun-filled evening in a stylish setting.\n\nJ
 oin Us:\n\nDon't miss this opportunity to support mental health awareness 
 while having a great time. Reserve your spot today and be a part of the BB
 F Mental Health Linen Ball—an event that combines fun\, awareness\, and 
 community support.\n\nGET TICKETS\n
ATTACH;FMTTYPE=image/jpeg:https://breatheatlanta.us/wp-content/uploads/202
 4/06/BBF-Mental-Health-Linen-Ball.jpg
CATEGORIES:Mindfulness Events,Wellness Events
LOCATION:3382 GA-5\, 3382 Georgia 5 Douglasville\, Atlanta\, Georgia\, 3013
 5\, GA \, United States
X-APPLE-STRUCTURED-LOCATION;VALUE=URI;X-ADDRESS=3382 Georgia 5 Douglasville
 \, Atlanta\, Georgia\, 30135\, GA \, United States;X-APPLE-RADIUS=100;X-TI
 TLE=3382 GA-5:geo:0,0
END:VEVENT
BEGIN:VTIMEZONE
TZID:America/New_York
X-LIC-LOCATION:America/New_York
BEGIN:DAYLIGHT
DTSTART:20240310T030000
TZOFFSETFROM:-0500
TZOFFSETTO:-0400
TZNAME:EDT
END:DAYLIGHT
END:VTIMEZONE
END:VCALENDAR