BEGIN:VCALENDAR
VERSION:2.0
PRODID:-//wp-events-plugin.com//7.2.3.1//EN
TZID:America/New_York
X-WR-TIMEZONE:America/New_York
BEGIN:VEVENT
UID:32@breatheatlanta.us
DTSTART;TZID=America/New_York:20240324T160000
DTEND;TZID=America/New_York:20240324T180000
DTSTAMP:20240321T062807Z
URL:https://breatheatlanta.us/events/be-well/
SUMMARY:Be Well
DESCRIPTION:Event Information:\nDr. Monica Moore's two-part series at Smyrn
 a Community Center for practical health insights. Discover mindful eating\
 , meal prep\, and cooking techniques for sustainable\, whole health improv
 ements\, with exciting giveaways.\n\nDate and Time: Sunday\, March 24\, 4 
 - 6pm EDT.\n\n\n\n\nLocation: Smyrna Community Center-Tulip Room 200 Villa
 ge Green Circle Southeast Smyrna\, GA 30080 United States\n\nAbout this Ev
 ent:\n\nExplore practical health solutions with Dr. Monica Moore at Smyrna
  Community Center. In this two-part series\, discover mindful eating\, mea
 l prep\, and cooking techniques for healthy living.\n\nHighlights:\n\n 	Le
 d by Dr. Monica Moore\, a double board-certified pediatrician and obesity 
 medicine physician.\n 	Focus on developing healthy relationships with food
  through interactive cooking demonstrations.\n 	Learn sustainable approach
 es to improve overall health for you and your family.\n\nTicket Informatio
 n: Information not provided. Check with the event organizer for ticket det
 ails.\n\n&nbsp\;\n\nGET TICKETS\n\nTicket Price: free\n\nEssential to Brin
 g:\n\n 	Open mind and eagerness to learn about mindful eating and healthy 
 living.\n 	Notebook or device for taking notes.\n 	Positive attitude for a
 n interactive and informative session.\n\nParking Option: Information on p
 arking is not provided. Confirm parking details with Smyrna Community Cent
 er.\n\nDr. Monica Moore for a two-part series at Smyrna Community Center\,
  focusing on practical and sustainable health improvement. Learn mindful e
 ating\, meal prep\, and cooking techniques for a healthier lifestyle.\n\n\
 n\n\n\n\n\n
ATTACH;FMTTYPE=image/jpeg:https://breatheatlanta.us/wp-content/uploads/202
 4/03/Be-well.jpg
CATEGORIES:Wellness Events
LOCATION:Smyrna Community Center-Tulip Room 200 Village Green Circle Southe
 ast Smyrna\, 200 Village Green Circle Southeast Smyrna\, GA 30080 United S
 tates\,  Smyrna\, GA\, 30080\, GA\, United States
X-APPLE-STRUCTURED-LOCATION;VALUE=URI;X-ADDRESS=200 Village Green Circle So
 utheast Smyrna\, GA 30080 United States\,  Smyrna\, GA\, 30080\, GA\, Unit
 ed States;X-APPLE-RADIUS=100;X-TITLE=Smyrna Community Center-Tulip Room 20
 0 Village Green Circle Southeast Smyrna:geo:0,0
END:VEVENT
BEGIN:VTIMEZONE
TZID:America/New_York
X-LIC-LOCATION:America/New_York
BEGIN:DAYLIGHT
DTSTART:20240310T030000
TZOFFSETFROM:-0500
TZOFFSETTO:-0400
TZNAME:EDT
END:DAYLIGHT
END:VTIMEZONE
END:VCALENDAR