BEGIN:VCALENDAR
VERSION:2.0
PRODID:-//wp-events-plugin.com//7.2.3.1//EN
TZID:America/New_York
X-WR-TIMEZONE:America/New_York
BEGIN:VEVENT
UID:396@breatheatlanta.us
DTSTART;TZID=America/New_York:20240825T100000
DTEND;TZID=America/New_York:20240825T140000
DTSTAMP:20240802T060307Z
URL:https://breatheatlanta.us/events/beautiful-you-day-retreat/
SUMMARY:Beautiful You Day Retreat
DESCRIPTION:Imagine a day dedicated entirely to your empowerment\, health\,
  and beauty\, surrounded by other inspiring\, high-energy women. The Beaut
 iful You Day Retreat offers just that and more.\n\nWhat to Expect:\n\n 	DI
 Y Hydrating Face Masks: Pamper your skin with personalized\, hydrating fac
 e masks.\n 	Energizing Sound Bath: Experience a rejuvenating sound bath to
  energize your mind and body.\n 	Empowerment Coaching: Gain valuable insig
 hts and strategies to empower yourself in all areas of life.\n 	Compliment
 ary Mini Swag Bags: Enjoy thoughtful goodies to take home.\n 	Chair Massag
 es: Relax with soothing chair massages.\n 	Tarot Readings: Explore your fu
 ture with insightful tarot readings.\n 	Brow Threading: Shape your brows t
 o perfection.\n 	Nail Art + Hand Massage: Get creative with nail art and i
 ndulge in a calming hand massage.\n 	Morning Routine Revamps: Learn tips a
 nd tricks to transform your morning routine.\n 	Healthy Catered Meal: Savo
 r a delicious and nutritious meal.\n 	Glam Tent and Photo Ops: Capture mem
 ories in our glamorous tent with photo opportunities.\n 	DIY Candle Making
 : Create your own candles in a fun\, hands-on workshop.\n\nAnd So Much Mor
 e!\n\nThis retreat is your chance to feel empowered\, refreshed\, and beau
 tiful\, all in one transformative day. Come together with like-minded wome
 n and celebrate the vibrant\, powerful you.\n\nDon't Miss Out on This Incr
 edible Day of Self-Care and Empowerment!\n\nGET TICKETS\n
ATTACH;FMTTYPE=image/jpeg:https://breatheatlanta.us/wp-content/uploads/202
 4/08/Beautiful-You-Day-Retreat.jpg
CATEGORIES:Mindfulness Events,Things To Do,Wellness Events
LOCATION:AR Workshop Chamblee\, 5441 Peachtree Road Chamblee\, Atlanta\, GA
 \, 30341\, GA\, United States
X-APPLE-STRUCTURED-LOCATION;VALUE=URI;X-ADDRESS=5441 Peachtree Road Chamble
 e\, Atlanta\, GA\, 30341\, GA\, United States;X-APPLE-RADIUS=100;X-TITLE=A
 R Workshop Chamblee:geo:0,0
END:VEVENT
BEGIN:VTIMEZONE
TZID:America/New_York
X-LIC-LOCATION:America/New_York
BEGIN:DAYLIGHT
DTSTART:20240310T030000
TZOFFSETFROM:-0500
TZOFFSETTO:-0400
TZNAME:EDT
END:DAYLIGHT
END:VTIMEZONE
END:VCALENDAR