BEGIN:VCALENDAR
VERSION:2.0
PRODID:-//wp-events-plugin.com//7.2.3.1//EN
TZID:America/New_York
X-WR-TIMEZONE:America/New_York
BEGIN:VEVENT
UID:474@breatheatlanta.us
DTSTART;TZID=America/New_York:20241013T160000
DTEND;TZID=America/New_York:20241013T180000
DTSTAMP:20240923T171617Z
URL:https://breatheatlanta.us/events/beauty-brains-conference/
SUMMARY:Beauty & Brains conference
DESCRIPTION:The Beauty &amp\; Brains Conference invites women to join its i
 naugural 2024 Women's Cohort Event\, an empowering gathering designed to s
 upport both professional and personal growth. As a community built on the 
 values of mental health and spiritual well-being\, Beauty &amp\; Brains pr
 ovides a nurturing space where women can thrive in every aspect of their l
 ives.\n\nAttendees will gain valuable insights on how to successfully run 
 a business while maintaining mental health and trusting in a higher purpos
 e. This event will not only offer practical advice but also foster an envi
 ronment where women can share experiences\, build networks\, and grow toge
 ther.\n\nIn addition to enriching discussions\, food and drinks will be se
 rved\, making it a well-rounded experience of nourishment for both the bod
 y and soul. The conference embodies a holistic approach to success\, encou
 raging women to prioritize both their mental wellness and their spiritual 
 journey while pursuing professional excellence.\n\nMark this unique event 
 on your calendar and join a community dedicated to helping women flourish 
 in every facet of life.\n\n&nbsp\;\n\nGET TICKETS\n
ATTACH;FMTTYPE=image/jpeg:https://breatheatlanta.us/wp-content/uploads/202
 4/09/Beauty-Brains-conference.jpg
CATEGORIES:Wellness Events
LOCATION:CreateATL\, 900 Murphy Avenue\, Southwest Atlanta\, Georgia\, 3031
 0\, GA\, United States
X-APPLE-STRUCTURED-LOCATION;VALUE=URI;X-ADDRESS=900 Murphy Avenue\, Southwe
 st Atlanta\, Georgia\, 30310\, GA\, United States;X-APPLE-RADIUS=100;X-TIT
 LE=CreateATL:geo:0,0
END:VEVENT
BEGIN:VTIMEZONE
TZID:America/New_York
X-LIC-LOCATION:America/New_York
BEGIN:DAYLIGHT
DTSTART:20240310T030000
TZOFFSETFROM:-0500
TZOFFSETTO:-0400
TZNAME:EDT
END:DAYLIGHT
END:VTIMEZONE
END:VCALENDAR