BEGIN:VCALENDAR
VERSION:2.0
PRODID:-//wp-events-plugin.com//7.2.3.1//EN
TZID:America/New_York
X-WR-TIMEZONE:America/New_York
BEGIN:VEVENT
UID:60@breatheatlanta.us
DTSTART;TZID=America/New_York:20240330T110000
DTEND;TZID=America/New_York:20240330T140000
DTSTAMP:20240314T112035Z
URL:https://breatheatlanta.us/events/beauty-brunch-and-brains/
SUMMARY:Beauty\, Brunch\, and Brains
DESCRIPTION:\nNourish Your Mind\, Body\, and Soul: Mental Health\, Brunch\,
  and Beauty!\nCalling all self-care enthusiasts! Get ready for an experien
 ce that goes beyond the ordinary. Mental Health Insight\, Brunch\, and a B
 eauty Boost! is a vibrant event designed to nourish your mind\, body\, and
  soul\, leaving you feeling centered\, empowered\, and radiant.\nMore Than
  Just a Workshop:\nThis event transcends the traditional workshop format. 
 Prepare to embark on a multi-faceted journey that integrates valuable insi
 ghts\, delicious nourishment\, and a touch of pampering.\nFuel Your Well-b
 eing:\nThe experience kicks off with a delectable brunch spread. Savor a v
 ariety of healthy and satisfying options that will energize you for the da
 y's activities. As you mingle with fellow attendees\, create connections a
 nd foster a sense of community.\nMental Health Matters:\nFollowing the bru
 nch\, delve into enriching sessions focused on mental health. Expert speak
 ers will share valuable insights and practical strategies for:\n\n\n 	Unde
 rstanding Your Mental Wellness: Gain a deeper awareness of your own mental
  health and how various factors can influence your well-being.\n 	Building
  Resilience: Learn effective tools and techniques to cope with stress\, ma
 nage negative thoughts\, and cultivate emotional resilience.\n 	Creating H
 ealthy Habits: Discover practical strategies for integrating self-care pra
 ctices into your daily routine for long-term mental well-being.\n\nBeyond 
 the Mind:\nThe event goes beyond intellectual stimulation. Treat yourself 
 to a rejuvenating beauty boost! Enjoy a pampering experience\, such as a m
 ini facial\, makeup touch-up\, or hairstyling session. This touch of self-
 care will leave you feeling confident and beautiful\, both inside and out.
 \nEmbrace a Holistic Approach:\nMental Health Insight\, Brunch\, and a Bea
 uty Boost! recognizes the interconnectedness of mind\, body\, and spirit. 
 This event provides a holistic approach to well-being\, ensuring each aspe
 ct of your being is nurtured and revitalized.\nLeave Inspired and Empowere
 d:\nBy the end of the day\, you'll walk away feeling empowered and equippe
 d with valuable tools to enhance your mental well-being\, embrace self-car
 e practices\, and cultivate a radiant inner and outer glow.\nReserve Your 
 Spot Today!\nDon't miss this unique opportunity to invest in your overall 
 well-being. Reserve your spot for Mental Health Insight\, Brunch\, and a B
 eauty Boost! and embark on a transformative journey towards a happier\, he
 althier\, and more beautiful you!\n\n\n\nBUY TICKETS\n
ATTACH;FMTTYPE=image/jpeg:https://breatheatlanta.us/wp-content/uploads/202
 4/03/https___cdn.evbuc_.com_images_688568539_112580995849_1_original.jpeg
CATEGORIES:Wellness Events
LOCATION:Jonesy's Place\, 780 Main Street \, Forest Park\, Georgia\, 30297\
 , United States
X-APPLE-STRUCTURED-LOCATION;VALUE=URI;X-ADDRESS=780 Main Street \, Forest P
 ark\, Georgia\, 30297\, United States;X-APPLE-RADIUS=100;X-TITLE=Jonesy's 
 Place:geo:0,0
END:VEVENT
BEGIN:VTIMEZONE
TZID:America/New_York
X-LIC-LOCATION:America/New_York
BEGIN:DAYLIGHT
DTSTART:20240310T030000
TZOFFSETFROM:-0500
TZOFFSETTO:-0400
TZNAME:EDT
END:DAYLIGHT
END:VTIMEZONE
END:VCALENDAR