BEGIN:VCALENDAR
VERSION:2.0
PRODID:-//wp-events-plugin.com//7.2.3.1//EN
TZID:America/New_York
X-WR-TIMEZONE:America/New_York
BEGIN:VEVENT
UID:207@breatheatlanta.us
DTSTART;TZID=America/New_York:20240504T100000
DTEND;TZID=America/New_York:20240504T110000
DTSTAMP:20240404T101002Z
URL:https://breatheatlanta.us/events/beer-yoga-at-monday-night-brewing-in-
 atlanta-ga/
SUMMARY:Beer Yoga at Monday Night Brewing in Atlanta GA
DESCRIPTION:Experience the ultimate blend of relaxation and indulgence at o
 ur upcoming yoga session! Join us for an enjoyable and soothing experience
  where you can stretch and unwind while savoring a refreshing cold beer.\n
 \nEvent Information:\n\nEvent Name: Beer Yoga at Monday Night Brewing\n\nH
 ost: Good Company Yoga\n\nDate and Time: Saturday\, May 4 • 10 - 11am ED
 T\n\nLocation: Monday Night Garage\, 933 Lee Street Southwest Atlanta\, GA
  30310 United States\n\nAbout this Event: for Beer Yoga! Come unwind and r
 elax with Good Company Yoga where you can enjoy a refreshing yoga session 
 while sipping on your favorite beer. This class will take place at Monday 
 Night Brewing inside the Garage\, the perfect setting for some zen and bre
 ws. Yes\, you read that correctly -- beer during yoga!  Ticket includes y
 our first beverage.\n\nPre-registration is required. Please bring your own
  yoga mat. Follow us on Instagram (@goodcompanyyoga) to stay up to date un
 til the event.\n\nTicket Information:\n\nTicket Price:\n\nGeneral Admissio
 n: $30.0\n\nFees: $3.85\n\nSales Tax: $3.01\n\nTotal: $36.86\n\nGET TICKET
 S\n\nRefund Policy: No Refunds\n\nWorkout Session Detail: This event combi
 nes yoga practice with the enjoyment of beer\, creating a unique and relax
 ed atmosphere for participants to stretch and unwind.\n\nEssentials for Br
 ing:\n\nBring your own yoga mat.\n\nParking Option: Parking is available a
 t Monday Night Garage.\n\nThis event promises a blend of relaxation\, exer
 cise\, and enjoyment\, offering attendees a chance to experience something
  novel and refreshing.
ATTACH;FMTTYPE=image/jpeg:https://breatheatlanta.us/wp-content/uploads/202
 4/04/545445656556.jpg
CATEGORIES:Wellness Events,Yoga Events
LOCATION:Monday Night Garage\,   933 Lee Street Southwest \, Atlanta\, \, U
 nited States\, 30310 \, GA \, United States
X-APPLE-STRUCTURED-LOCATION;VALUE=URI;X-ADDRESS=  933 Lee Street Southwest 
 \, Atlanta\, \, United States\, 30310 \, GA \, United States;X-APPLE-RADIU
 S=100;X-TITLE=Monday Night Garage:geo:0,0
END:VEVENT
BEGIN:VTIMEZONE
TZID:America/New_York
X-LIC-LOCATION:America/New_York
BEGIN:DAYLIGHT
DTSTART:20240310T030000
TZOFFSETFROM:-0500
TZOFFSETTO:-0400
TZNAME:EDT
END:DAYLIGHT
END:VTIMEZONE
END:VCALENDAR