BEGIN:VCALENDAR
VERSION:2.0
PRODID:-//wp-events-plugin.com//7.2.3.1//EN
TZID:America/New_York
X-WR-TIMEZONE:America/New_York
BEGIN:VEVENT
UID:810@breatheatlanta.us
DTSTART;TZID=America/New_York:20250308T151500
DTEND;TZID=America/New_York:20250308T161500
DTSTAMP:20250223T055955Z
URL:https://breatheatlanta.us/events/beginner-pole-drop-in-class/
SUMMARY:Beginner Pole Drop-In Class
DESCRIPTION:\n\n\n\nBeginner Pole Drop-In Class\nThe Beginner Pole Drop-In 
 Class offers an accessible and flexible way for newcomers to explore pole 
 fitness without the need for a long-term commitment. Designed specifically
  for beginners\, this class teaches foundational pole fitness techniques a
 nd basic movements\, helping participants build confidence and strength fr
 om the ground up.\nUnlike traditional programs that require enrollment in 
 a series of sessions\, this drop-in format allows individuals to attend a 
 single class at their convenience. It’s the perfect opportunity to exper
 ience pole fitness firsthand and decide if it’s the right fit.\nImportan
 t Guidelines:\n\n\n 	No lotion or oil should be applied at least 4 hours b
 efore the class to ensure safety and proper grip.\n 	There is a strict 10-
 minute grace period—late arrivals beyond this window will not be allowed
  to participate actively.\n 	Cancellations and rescheduling can be managed
  through the app up to two hours before the class time.\n\nThis beginner-f
 riendly approach makes it easier than ever to try pole fitness\, learn new
  moves\, and have fun while staying active.\n\n\n\n\n\n\n\n\n\n&nbsp\;\n\n
 \n\n\n\n\nGET TICKETS\n
ATTACH;FMTTYPE=image/jpeg:https://breatheatlanta.us/wp-content/uploads/202
 5/02/Beginner-Pole-Drop-In-Class.avif
CATEGORIES:Wellness Events
LOCATION:Pink Poles Studio\, 1030 White Street Southwest \, Atlanta\, 30310
 \, GA\, United States
X-APPLE-STRUCTURED-LOCATION;VALUE=URI;X-ADDRESS=1030 White Street Southwest
  \, Atlanta\, 30310\, GA\, United States;X-APPLE-RADIUS=100;X-TITLE=Pink P
 oles Studio:geo:0,0
END:VEVENT
BEGIN:VTIMEZONE
TZID:America/New_York
X-LIC-LOCATION:America/New_York
BEGIN:STANDARD
DTSTART:20241103T010000
TZOFFSETFROM:-0400
TZOFFSETTO:-0500
TZNAME:EST
END:STANDARD
END:VTIMEZONE
END:VCALENDAR