BEGIN:VCALENDAR
VERSION:2.0
PRODID:-//wp-events-plugin.com//7.2.3.1//EN
TZID:America/New_York
X-WR-TIMEZONE:America/New_York
BEGIN:VEVENT
UID:402@breatheatlanta.us
DTSTART;TZID=America/New_York;VALUE=DATE:20240811
DTEND;TZID=America/New_York;VALUE=DATE:20240814
DTSTAMP:20240802T092822Z
URL:https://breatheatlanta.us/events/bereggae-music-arts-festival/
SUMMARY:BeREGGAE Music & Arts Festival
DESCRIPTION:Immerse yourself in the vibrant rhythms and rich traditions of 
 the Caribbean at the BeREGGAE Music &amp\; Arts Festival. This festival is
  a vibrant showcase of Caribbean culture\, featuring a blend of live regga
 e performances\, captivating art exhibitions\, and an array of mouthwateri
 ng Caribbean cuisine.\n\nEvent Highlights:\n\n 	Live Reggae Performances: 
 Experience the infectious beats and soulful melodies of top reggae artists
 . Each performance promises to bring the essence of the Caribbean right to
  the stage.\n 	Art Exhibitions: Explore a diverse collection of Caribbean-
 inspired art that highlights the unique and colorful artistry of the islan
 ds. This visual feast will provide a deeper understanding of the cultural 
 heritage.\n 	Caribbean Cuisine: Savor a delicious variety of traditional C
 aribbean dishes. From spicy jerk chicken to sweet plantains\, the food wil
 l offer an authentic taste of island flavors.\n\nJoin us at the BeREGGAE M
 usic &amp\; Arts Festival for a day filled with music\, art\, and culinary
  delights. Whether you're a reggae enthusiast\, an art lover\, or a foodie
 \, this festival is designed to transport you to the heart of the Caribbea
 n. Don’t miss this chance to celebrate and enjoy the dynamic and colorfu
 l Caribbean culture!\n\nGET TICKETS\n
ATTACH;FMTTYPE=image/jpeg:https://breatheatlanta.us/wp-content/uploads/202
 4/08/10annilogo.png
CATEGORIES:Arts &amp; Performances,Food &amp; Drink Events,Mindfulness
 Events,Things To Do
LOCATION:Piedmont Park\, 400 Park Drive Northeast Atlanta\, GA 30306 United
  States\, GA \, United States\, 30306 \, GA\, United States
X-APPLE-STRUCTURED-LOCATION;VALUE=URI;X-ADDRESS=400 Park Drive Northeast At
 lanta\, GA 30306 United States\, GA \, United States\, 30306 \, GA\, Unite
 d States;X-APPLE-RADIUS=100;X-TITLE=Piedmont Park:geo:0,0
END:VEVENT
BEGIN:VTIMEZONE
TZID:America/New_York
X-LIC-LOCATION:America/New_York
BEGIN:DAYLIGHT
DTSTART:20240310T030000
TZOFFSETFROM:-0500
TZOFFSETTO:-0400
TZNAME:EDT
END:DAYLIGHT
END:VTIMEZONE
END:VCALENDAR