BEGIN:VCALENDAR
VERSION:2.0
PRODID:-//wp-events-plugin.com//7.2.3.1//EN
TZID:America/New_York
X-WR-TIMEZONE:America/New_York
BEGIN:VEVENT
UID:243@breatheatlanta.us
DTSTART;TZID=America/New_York:20240505T090000
DTEND;TZID=America/New_York:20240505T130000
DTSTAMP:20240416T143608Z
URL:https://breatheatlanta.us/events/beyond-balanced-wellness/
SUMMARY:Beyond Balanced presented by Wellness Unleashed
DESCRIPTION:\nEmpowering Women Caregivers: Partner with "Beyond Balance"\nC
 alling all changemakers!\nDo you share a passion for supporting women care
 givers and promoting holistic well-being? "Beyond Balance" presents a uniq
 ue opportunity to make a real difference.\nA Journey of Empowerment:\n"Bey
 ond Balance" is more than just an event\; it's a transformative journey de
 signed to empower women caregivers. Through insightful panel discussions\,
  interactive workshops\, and rejuvenating activities\, we aim to address t
 he critical needs of these remarkable individuals.\nFocus on Mind\, Body\,
  and Spirit:\nOur comprehensive program bridges the gap between mental hea
 lth\, nutrition\, and physical fitness. By addressing these key aspects\, 
 we can equip women caregivers with the tools and resources they need to:\n
 \n\n 	Manage Stress: Learn effective techniques to combat stress and enhan
 ce emotional well-being.\n 	Nourish Their Bodies: Discover healthy eating 
 strategies to fuel their energy and resilience.\n 	Prioritize Self-Care: D
 evelop sustainable self-care practices to prevent burnout and maintain opt
 imal health.\n\nBecome a Partner for Good:\nAs a sponsor of "Beyond Balanc
 e\," your brand will be at the forefront of this important initiative. You
 r partnership will provide valuable support to women caregivers while allo
 wing you to:\n\n\n 	Build Brand Affinity: Align your brand with a cause th
 at resonates with a diverse audience.\n 	Showcase Your Commitment: Demonst
 rate your dedication to community well-being and positive social impact.\n
  	Connect with Purposeful Consumers: Reach a highly engaged audience who v
 alues brands that promote positive change.\n\nSponsorship Benefits:\nWe of
 fer a range of sponsorship options\, from prominent logo placement to excl
 usive promotional opportunities. Let's work together to tailor a package t
 hat aligns with your brand objectives.\nThe Invitation:\n"Beyond Balance" 
 is more than just an event\; it's an opportunity to inspire\, empower\, an
 d create lasting positive change. Join us as we work together to enable wo
 men caregivers to thrive in mind\, body\, and spirit.\nBecome a sponsor to
 day and embark on this impactful journey with us!\n\n\n\nBUY TICKETS\n
ATTACH;FMTTYPE=image/jpeg:https://breatheatlanta.us/wp-content/uploads/202
 4/04/https___cdn.evbuc_.com_images_744670619_409066219627_1_original.jpg
CATEGORIES:Wellness Events
LOCATION:The Bakery CoWork\, 1500 Southland Circle Northwest #Suite H\, Atl
 anta\, Georgia\, 30318\, United States
X-APPLE-STRUCTURED-LOCATION;VALUE=URI;X-ADDRESS=1500 Southland Circle North
 west #Suite H\, Atlanta\, Georgia\, 30318\, United States;X-APPLE-RADIUS=1
 00;X-TITLE=The Bakery CoWork:geo:0,0
END:VEVENT
BEGIN:VTIMEZONE
TZID:America/New_York
X-LIC-LOCATION:America/New_York
BEGIN:DAYLIGHT
DTSTART:20240310T030000
TZOFFSETFROM:-0500
TZOFFSETTO:-0400
TZNAME:EDT
END:DAYLIGHT
END:VTIMEZONE
END:VCALENDAR