BEGIN:VCALENDAR
VERSION:2.0
PRODID:-//wp-events-plugin.com//7.2.3.1//EN
TZID:America/New_York
X-WR-TIMEZONE:America/New_York
BEGIN:VEVENT
UID:643@breatheatlanta.us
DTSTART;TZID=America/New_York:20241031T210000
DTEND;TZID=America/New_York:20241101T023000
DTSTAMP:20241018T075236Z
URL:https://breatheatlanta.us/events/bhpe-atlanta-2024-biggest-halloween-p
 arty-ever/
SUMMARY:BHPE ATLANTA 2024! Biggest Halloween Party Ever
DESCRIPTION:Get ready for an unforgettable night at BHPE Atlanta 2024\, the
  largest Halloween party in Georgia! Taking place on Halloween night\, thi
 s epic celebration promises an evening of spine-tingling fun\, thrilling e
 ntertainment\, and plenty of spooky surprises.\n\nOne of the highlights of
  the night is the $1\,000 Costume Contest\, where the most creative and ex
 travagant costumes will compete for the grand prize. Whether you’re goin
 g for spine-chilling\, hilarious\, or downright glamorous\, this is your c
 hance to showcase your Halloween spirit and creativity!\n\nJoin fellow Hal
 loween enthusiasts for an experience that will be talked about long after 
 the night is over. Expect lively music\, fantastic decorations\, and an el
 ectric atmosphere that will make this Halloween party the talk of the town
 .\n\nDon’t miss your chance to be part of this spectacular event—mark 
 your calendars and prepare for a night filled with thrills and chills!\n\n
 GET TICKETS\n
ATTACH;FMTTYPE=image/jpeg:https://breatheatlanta.us/wp-content/uploads/202
 4/10/Keller-Williams-Metro-Atlanta-VIP-Area-at-Decatur-BBQ-Bands-1.jpg
CATEGORIES:Things To Do
LOCATION:Penthouse Sports Bar\, 2847 Buford Highway Northeast Atlanta\, Atl
 anta\, Georgia\, 30329 \, GA\, United States
X-APPLE-STRUCTURED-LOCATION;VALUE=URI;X-ADDRESS=2847 Buford Highway Northea
 st Atlanta\, Atlanta\, Georgia\, 30329 \, GA\, United States;X-APPLE-RADIU
 S=100;X-TITLE=Penthouse Sports Bar:geo:0,0
END:VEVENT
BEGIN:VTIMEZONE
TZID:America/New_York
X-LIC-LOCATION:America/New_York
BEGIN:DAYLIGHT
DTSTART:20240310T030000
TZOFFSETFROM:-0500
TZOFFSETTO:-0400
TZNAME:EDT
END:DAYLIGHT
END:VTIMEZONE
END:VCALENDAR