BEGIN:VCALENDAR
VERSION:2.0
PRODID:-//wp-events-plugin.com//7.2.3.1//EN
TZID:America/New_York
X-WR-TIMEZONE:America/New_York
BEGIN:VEVENT
UID:194@breatheatlanta.us
DTSTART;TZID=America/New_York:20240516T170000
DTEND;TZID=America/New_York:20240516T220000
DTSTAMP:20240404T113659Z
URL:https://breatheatlanta.us/events/black-health-connect-atlantaga-q2-202
 4-mixer/
SUMMARY:Black Health Connect: Atlanta\,GA - Q2 2024 MIXER
DESCRIPTION:Let's unite today for a brighter\, more prosperous tomorrow. RS
 VP now at Blackhealthconnect.com to be part of the journey towards a healt
 hier future.\n\nEvent Information:\n\nEvent Name: Black Health Connect: At
 lanta\, GA - Q2 2024 MIXER\n\nHost: Black Health Connect\n\nDate and Time:
  Thursday\, May 16 • Starts at 5:00 PM EDT\n\nLocation: Atlanta Atlanta 
 Atlanta\, GA United States\n\nAbout this Event: Join us for the Black Heal
 th Connect: Atlanta\, GA - Q2 2024 MIXER\, part of the Black Health Connec
 t: Q2 '24 Mixers collection. This event is a platform for health professio
 nals to come together\, interact\, network\, and connect with others in th
 eir field. It's an opportunity to forge meaningful relationships\, share i
 nsights\, and collaborate for a healthier tomorrow. RSVP is mandatory for 
 access. Visit Blackhealthconnect.com to secure your spot today!\n\nTicket 
 Information:\n\nFREE RSVP: Mandatory for access (Sales end on May 16\, 202
 4)\n\nSponsorship Vendor Request/Inquiry: FREE (Sales end on May 16\, 2024
 )\n\nGET TICKETS\n\nBlack Health Connect: Atlanta\, GA - Q2 2024 MIXER and
  be part of a collaborative community dedicated to advancing health initia
 tives. It's a gathering of professionals and enthusiasts alike\, all worki
 ng towards a healthier future.
ATTACH;FMTTYPE=image/jpeg:https://breatheatlanta.us/wp-content/uploads/202
 4/03/02020202002.jpg
CATEGORIES:Wellness Events
LOCATION:Atlanta\,  Atlanta \, United States\, Atlanta\, United States\, GA
  \, United States
X-APPLE-STRUCTURED-LOCATION;VALUE=URI;X-ADDRESS= Atlanta \, United States\,
  Atlanta\, United States\, GA \, United States;X-APPLE-RADIUS=100;X-TITLE=
 Atlanta:geo:0,0
END:VEVENT
BEGIN:VTIMEZONE
TZID:America/New_York
X-LIC-LOCATION:America/New_York
BEGIN:DAYLIGHT
DTSTART:20240310T030000
TZOFFSETFROM:-0500
TZOFFSETTO:-0400
TZNAME:EDT
END:DAYLIGHT
END:VTIMEZONE
END:VCALENDAR