BEGIN:VCALENDAR
VERSION:2.0
PRODID:-//wp-events-plugin.com//7.2.3.1//EN
TZID:America/New_York
X-WR-TIMEZONE:America/New_York
BEGIN:VEVENT
UID:690@breatheatlanta.us
DTSTART;TZID=America/New_York:20241122T183000
DTEND;TZID=America/New_York:20241122T203000
DTSTAMP:20241024T153923Z
URL:https://breatheatlanta.us/events/black-men-healing-lounge/
SUMMARY:Black Men Healing Lounge
DESCRIPTION:\n\n\n\n\nThe Black Men Healing Lounge offers a sacred and nurt
 uring environment specifically for Black men to heal\, connect\, and flour
 ish. This welcoming space invites participants to engage in meaningful con
 versations during fireside chats\, share nourishing food\, and build camar
 aderie with one another.\n\nDesigned as a transformative collective healin
 g experience\, the lounge aims to enhance overall well-being by fostering 
 a sense of community and support. Here\, Black men can explore their chall
 enges and triumphs\, share their stories\, and cultivate deeper connection
 s. This gathering not only promotes personal growth but also encourages em
 otional resilience\, providing a safe haven for participants to thrive tog
 ether on their healing journeys.\n\n\n\n\n\n\n\n\n\n&nbsp\;\n4o mini\n\n\n
 \n\n\nGET TICKETS\n
ATTACH;FMTTYPE=image/jpeg:https://breatheatlanta.us/wp-content/uploads/202
 4/10/Black-Men-Healing-Lounge.jpeg
CATEGORIES:Wellness Events
LOCATION:504 Fair St SW\, 504 Fair Street \, Atlanta\, GA\, 30313 \, GA\, U
 nited States
X-APPLE-STRUCTURED-LOCATION;VALUE=URI;X-ADDRESS=504 Fair Street \, Atlanta\
 , GA\, 30313 \, GA\, United States;X-APPLE-RADIUS=100;X-TITLE=504 Fair St 
 SW:geo:0,0
END:VEVENT
BEGIN:VTIMEZONE
TZID:America/New_York
X-LIC-LOCATION:America/New_York
BEGIN:STANDARD
DTSTART:20241103T010000
TZOFFSETFROM:-0400
TZOFFSETTO:-0500
TZNAME:EST
END:STANDARD
END:VTIMEZONE
END:VCALENDAR