BEGIN:VCALENDAR
VERSION:2.0
PRODID:-//wp-events-plugin.com//7.2.3.1//EN
TZID:America/New_York
X-WR-TIMEZONE:America/New_York
BEGIN:VEVENT
UID:190@breatheatlanta.us
DTSTART;TZID=America/New_York:20240720T100000
DTEND;TZID=America/New_York:20240720T140000
DTSTAMP:20240404T103732Z
URL:https://breatheatlanta.us/events/black-mens-mental-health-conference/
SUMMARY:Black Men's Mental Health Conference
DESCRIPTION:The Black Men's Mental Health Conference embarks on a trans for
 mative multi-city journey\, dedicated to raising awareness and providing c
 rucial education on mental health care for black men.\n\nEvent Information
 :\n\nEvent Name: Black Men's Mental Health Conference\n\nHost: justUs\, MH
  Foundation\n\nDate and Time: Saturday\, July 20 • 10:00 AM - 2:00 PM ED
 T\n\nLocation: City of South Fulton Southwest Arts Center 915 New Hope Roa
 d Southwest Atlanta\, GA 30331 United States\n\nAbout this Event: The Blac
 k Men's Mental Health Conference is a pivotal multi-city tour dedicated to
  raising awareness and providing education on mental health care for black
  men. Led by justUs\, MH Foundation\, this event aims to share stories\, o
 ffer access to resources\, and empower communities with the tools needed t
 o establish robust support systems for black men's mental well-being. Thro
 ugh panel discussions\, insights from mental health experts\, and comprehe
 nsive resources\, attendees will gain a deeper understanding of the social
  determinants and psychological challenges impacting black men's mental he
 alth. Join us on this transformative journey as we unite to spark crucial 
 conversations\, foster collective action\, and pave the way for a healthie
 r future for generations of black men.\n\nTicket Information:\n\nVIP Exclu
 sive Tote-Bags: $25.00 + $3.52 Fee (Sales end on July 19\, 2024)\n\nGenera
 l Admission: Free (Sales end on July 19\, 2024)\n\n\nGET TICKETS\n\n\nEnga
 ge in meaningful dialogue\, unite for change\, and save lives at the Black
  Men's Mental Health Conference. Let's come together\, celebrate progress\
 , and work towards ensuring mental well-being for black men in our communi
 ties.
ATTACH;FMTTYPE=image/jpeg:https://breatheatlanta.us/wp-content/uploads/202
 4/03/7898008970780800878987.jpg
CATEGORIES:Wellness Events
LOCATION:City of South Fulton Southwest Arts Center\,   915 New Hope Road \
 , Southwest Atlanta\, \, United States\, 30331 \, GA \, United States
X-APPLE-STRUCTURED-LOCATION;VALUE=URI;X-ADDRESS=  915 New Hope Road \, Sout
 hwest Atlanta\, \, United States\, 30331 \, GA \, United States;X-APPLE-RA
 DIUS=100;X-TITLE=City of South Fulton Southwest Arts Center:geo:0,0
END:VEVENT
BEGIN:VTIMEZONE
TZID:America/New_York
X-LIC-LOCATION:America/New_York
BEGIN:DAYLIGHT
DTSTART:20240310T030000
TZOFFSETFROM:-0500
TZOFFSETTO:-0400
TZNAME:EDT
END:DAYLIGHT
END:VTIMEZONE
END:VCALENDAR