BEGIN:VCALENDAR
VERSION:2.0
PRODID:-//wp-events-plugin.com//7.2.3.1//EN
TZID:America/New_York
X-WR-TIMEZONE:America/New_York
BEGIN:VEVENT
UID:704@breatheatlanta.us
DTSTART;TZID=America/New_York:20241122T133000
DTEND;TZID=America/New_York:20241122T160000
DTSTAMP:20241024T175523Z
URL:https://breatheatlanta.us/events/bls-provider-2/
SUMMARY:BLS Provider
DESCRIPTION:Safeguard CPR offers a comprehensive Basic Life Support (BLS) P
 rovider Classroom Course designed to equip healthcare professionals with e
 ssential lifesaving skills. This course focuses on recognizing and respond
 ing to a range of life-threatening emergencies with confidence and efficie
 ncy. Participants will learn how to perform CPR\, properly use an AED\, an
 d respond to choking incidents for adults\, children\, and infants in a sa
 fe and timely manner.\n\nThis BLS course is ideal for professionals in hea
 lthcare settings\, including nurses\, doctors\, paramedics\, and others wh
 o may need to respond to medical emergencies. The training is hands-on\, e
 nsuring that participants develop the skills necessary to act effectively 
 in real-life situations.\n\nCourse Highlights:\n\n 	Life-Saving Techniques
 : Learn how to respond to emergencies using CPR and AED techniques.\n 	Cho
 king Relief: Understand the proper methods for relieving choking in adults
 \, children\, and infants.\n 	Practical Application: The course emphasizes
  hands-on practice to ensure participants are prepared for real-world scen
 arios.\n 	Healthcare Focus: Tailored specifically for those working in hea
 lthcare environments.\n\nPlease note: Do not make payments through this pa
 ge. For more details or to enroll\, visit the official Safeguard CPR websi
 te at Safeguard CPR BLS Provider.\n\nGET TICKETS\n
ATTACH;FMTTYPE=image/jpeg:https://breatheatlanta.us/wp-content/uploads/202
 4/10/BLS-Provider.jpg
CATEGORIES:Things To Do
LOCATION:Attentive Safety CPR and Safety Training\, 1640 Powers Ferry Road\
 , Bldg 18 Ste 300 Marietta\, Georgia\, 30067\, GA\, United States
X-APPLE-STRUCTURED-LOCATION;VALUE=URI;X-ADDRESS=1640 Powers Ferry Road\, Bl
 dg 18 Ste 300 Marietta\, Georgia\, 30067\, GA\, United States;X-APPLE-RADI
 US=100;X-TITLE=Attentive Safety CPR and Safety Training:geo:0,0
END:VEVENT
BEGIN:VTIMEZONE
TZID:America/New_York
X-LIC-LOCATION:America/New_York
BEGIN:STANDARD
DTSTART:20241103T010000
TZOFFSETFROM:-0400
TZOFFSETTO:-0500
TZNAME:EST
END:STANDARD
END:VTIMEZONE
END:VCALENDAR