BEGIN:VCALENDAR
VERSION:2.0
PRODID:-//wp-events-plugin.com//7.2.3.1//EN
TZID:America/New_York
X-WR-TIMEZONE:America/New_York
BEGIN:VEVENT
UID:816@breatheatlanta.us
DTSTART;TZID=America/New_York:20250307T133000
DTEND;TZID=America/New_York:20250307T183000
DTSTAMP:20250224T002841Z
URL:https://breatheatlanta.us/events/bls-provider-classroom-course-2/
SUMMARY:BLS Provider Classroom Course
DESCRIPTION:Attentive Safety provides the BLS (Basic Life Support) Provider
  Classroom Course designed for healthcare professionals and personnel who 
 require essential skills in performing CPR and other basic cardiovascular 
 life support techniques. This course is suitable for individuals working i
 n various in-facility and prehospital environments\, equipping them with t
 he necessary knowledge and abilities to respond effectively during emergen
 cies.\nParticipants who successfully complete the course will receive a co
 urse completion card\, which remains valid for two years. It is recommende
 d that participants verify with their employers to ensure that this course
  meets the specific requirements of their workplace.\nFor more information
  and to register for the BLS Provider Classroom Course\, visit: Attentive 
 Safety - BLS for Healthcare Providers.\n\n\nGET TICKETS\n
ATTACH;FMTTYPE=image/jpeg:https://breatheatlanta.us/wp-content/uploads/202
 5/02/BLS-Provider-Classroom-Course.avif
CATEGORIES:Wellness Events
LOCATION:Attentive Safety CPR and Safety Training\, 1640 Powers Ferry Road\
 , Bldg 18 Ste 300 Marietta\, 30067\, GA\, United States
X-APPLE-STRUCTURED-LOCATION;VALUE=URI;X-ADDRESS=1640 Powers Ferry Road\, Bl
 dg 18 Ste 300 Marietta\, 30067\, GA\, United States;X-APPLE-RADIUS=100;X-T
 ITLE=Attentive Safety CPR and Safety Training:geo:0,0
END:VEVENT
BEGIN:VTIMEZONE
TZID:America/New_York
X-LIC-LOCATION:America/New_York
BEGIN:STANDARD
DTSTART:20241103T010000
TZOFFSETFROM:-0400
TZOFFSETTO:-0500
TZNAME:EST
END:STANDARD
END:VTIMEZONE
END:VCALENDAR