BEGIN:VCALENDAR
VERSION:2.0
PRODID:-//wp-events-plugin.com//7.2.3.1//EN
TZID:America/New_York
X-WR-TIMEZONE:America/New_York
BEGIN:VEVENT
UID:818@breatheatlanta.us
DTSTART;TZID=America/New_York:20250307T163000
DTEND;TZID=America/New_York:20250307T183000
DTSTAMP:20250224T003519Z
URL:https://breatheatlanta.us/events/bls-provider-classroom-course-4/
SUMMARY:BLS Provider Classroom Course
DESCRIPTION:Attentive Safety offers the BLS (Basic Life Support) Provider C
 lassroom Course\, specifically designed for healthcare professionals and o
 ther individuals who need to master essential CPR techniques and basic car
 diovascular life support skills. This course is ideal for those working in
  diverse settings\, including in-facility environments such as hospitals\,
  clinics\, and healthcare centers\, as well as prehospital situations like
  emergency response teams\, ambulatory care\, and community health service
 s.\nThe BLS Provider Course provides comprehensive training in life-saving
  techniques crucial for managing cardiac arrest\, respiratory emergencies\
 , and other critical medical situations. Participants learn how to perform
  high-quality CPR on adults\, children\, and infants\, utilize automated e
 xternal defibrillators (AEDs)\, and effectively manage airway obstructions
 . The curriculum emphasizes hands-on practice and real-world scenarios\, e
 nsuring that learners are well-prepared to respond confidently and efficie
 ntly in emergencies.\nUpon successful completion of the course\, students 
 are awarded an official course completion card\, which is valid for two ye
 ars. This certification demonstrates proficiency in basic life support and
  is widely recognized by healthcare employers and regulatory bodies. Parti
 cipants are encouraged to check with their employers to confirm that this 
 course meets their workplace requirements.\nTo learn more about the BLS Pr
 ovider Classroom Course or to register\, visit the official website at Att
 entive Safety - BLS for Healthcare Providers. Secure your spot today and e
 nhance your life-saving skills!\n\n\nGET TICKETS\n
ATTACH;FMTTYPE=image/jpeg:https://breatheatlanta.us/wp-content/uploads/202
 5/02/BLS-Provider-Classroom-Course-2.avif
CATEGORIES:Wellness Events
LOCATION:Attentive Safety CPR and Safety Training\, 1640 Powers Ferry Road\
 , Bldg 18 Ste 300 Marietta\, 30067\, GA\, United States
X-APPLE-STRUCTURED-LOCATION;VALUE=URI;X-ADDRESS=1640 Powers Ferry Road\, Bl
 dg 18 Ste 300 Marietta\, 30067\, GA\, United States;X-APPLE-RADIUS=100;X-T
 ITLE=Attentive Safety CPR and Safety Training:geo:0,0
END:VEVENT
BEGIN:VTIMEZONE
TZID:America/New_York
X-LIC-LOCATION:America/New_York
BEGIN:STANDARD
DTSTART:20241103T010000
TZOFFSETFROM:-0400
TZOFFSETTO:-0500
TZNAME:EST
END:STANDARD
END:VTIMEZONE
END:VCALENDAR