BEGIN:VCALENDAR
VERSION:2.0
PRODID:-//wp-events-plugin.com//7.2.3.1//EN
TZID:America/New_York
X-WR-TIMEZONE:America/New_York
BEGIN:VEVENT
UID:821@breatheatlanta.us
DTSTART;TZID=America/New_York:20250307T193000
DTEND;TZID=America/New_York:20250307T213000
DTSTAMP:20250224T005336Z
URL:https://breatheatlanta.us/events/bls-provider-classroom-course-7/
SUMMARY:BLS Provider Classroom Course
DESCRIPTION:Attentive Safety presents the BLS (Basic Life Support) Provider
  Classroom Course\, a comprehensive training program designed for healthca
 re professionals and other essential personnel who need to acquire or refr
 esh their knowledge of CPR and basic cardiovascular life support technique
 s. The course is specifically tailored for individuals working in various 
 healthcare environments\, including in-facility settings such as hospitals
 \, clinics\, and outpatient centers\, as well as prehospital environments 
 such as emergency medical services\, ambulances\, and community health ser
 vices.\nThis BLS Provider Course offers an in-depth curriculum that covers
  the most critical life-saving techniques needed in emergencies. Participa
 nts will learn how to perform high-quality CPR on adult\, child\, and infa
 nt patients\, use automated external defibrillators (AEDs)\, and manage ai
 rway obstructions. The course emphasizes hands-on practice\, ensuring that
  learners can apply these life-saving techniques in real-world scenarios w
 ith confidence and competence.\nAlong with technical skills\, the course a
 lso provides important insights into teamwork and effective communication 
 during emergency situations\, ensuring that participants can collaborate e
 ffectively with other healthcare professionals in high-pressure environmen
 ts. The training is conducted by experienced instructors who guide partici
 pants through various interactive simulations and case studies to reinforc
 e learning and improve performance.\nUpon successful completion of the cou
 rse\, students will receive a course completion card\, valid for two years
 . This certification demonstrates the participant’s proficiency in BLS a
 nd is recognized by employers across the healthcare industry. It is recomm
 ended that participants verify with their employers to confirm that this c
 ourse meets their specific job requirements before registering.\nFor more 
 details about the BLS Provider Classroom Course and to register\, visit At
 tentive Safety - BLS for Healthcare Providers. Take the first step towards
  enhancing your life-saving skills and becoming a vital resource in emerge
 ncy situations.\n\n\nGET TICKETS\n
ATTACH;FMTTYPE=image/jpeg:https://breatheatlanta.us/wp-content/uploads/202
 5/02/BLS-Provider-Classroom-Course-5.avif
CATEGORIES:Wellness Events
LOCATION:Attentive Safety CPR and Safety Training\, 1640 Powers Ferry Road\
 , Bldg 18 Ste 300 Marietta\, 30067\, GA\, United States
X-APPLE-STRUCTURED-LOCATION;VALUE=URI;X-ADDRESS=1640 Powers Ferry Road\, Bl
 dg 18 Ste 300 Marietta\, 30067\, GA\, United States;X-APPLE-RADIUS=100;X-T
 ITLE=Attentive Safety CPR and Safety Training:geo:0,0
END:VEVENT
BEGIN:VTIMEZONE
TZID:America/New_York
X-LIC-LOCATION:America/New_York
BEGIN:STANDARD
DTSTART:20241103T010000
TZOFFSETFROM:-0400
TZOFFSETTO:-0500
TZNAME:EST
END:STANDARD
END:VTIMEZONE
END:VCALENDAR