BEGIN:VCALENDAR
VERSION:2.0
PRODID:-//wp-events-plugin.com//7.2.3.1//EN
TZID:America/New_York
X-WR-TIMEZONE:America/New_York
BEGIN:VEVENT
UID:751@breatheatlanta.us
DTSTART;TZID=America/New_York:20250213T163000
DTEND;TZID=America/New_York:20250213T190000
DTSTAMP:20250201T113157Z
URL:https://breatheatlanta.us/events/bls-provider-classroom-course-essenti
 al-life-saving-skills/
SUMMARY:BLS Provider Classroom Course – Essential Life-Saving Skills
DESCRIPTION:\n\n\n\n\nSafeguard CPR offers a comprehensive Basic Life Suppo
 rt (BLS) Provider Classroom Course\, designed to equip healthcare professi
 onals with the essential skills needed to respond to life-threatening emer
 gencies with confidence and efficiency.\nWhat This Course Covers:\nPartici
 pants will gain hands-on experience and in-depth training in:\n✅ Recogni
 zing and responding to medical emergencies quickly and effectively\n✅ Pe
 rforming high-quality CPR for adults\, children\, and infants\n✅ Using a
 n Automated External Defibrillator (AED) to restore normal heart rhythms\n
 ✅ Managing airway obstructions and providing life-saving interventions f
 or choking victims\nWho Should Take This Course?\nThis training is ideal f
 or healthcare providers\, first responders\, and medical personnel seeking
  to enhance their emergency response capabilities. Whether working in a ho
 spital\, clinic\, or emergency setting\, mastering BLS skills ensures read
 iness for critical situations.\n\n🔗Register now: Safeguard CPR BLS Pro
 vider Course\n\n⚠️ Important: Please do not submit payment through thi
 s page. Follow the registration link for official payment and course detai
 ls.\n\nGET TICKETS\n\n\n\n\n
ATTACH;FMTTYPE=image/jpeg:https://breatheatlanta.us/wp-content/uploads/202
 5/02/BLS-Provider.jpeg
CATEGORIES:Wellness Events
LOCATION:Attentive Safety CPR and Safety Training\, 1640 Powers Ferry Road\
 , Bldg 18 Ste 300 Marietta\, Georgia\, 30067\, GA\, United States
X-APPLE-STRUCTURED-LOCATION;VALUE=URI;X-ADDRESS=1640 Powers Ferry Road\, Bl
 dg 18 Ste 300 Marietta\, Georgia\, 30067\, GA\, United States;X-APPLE-RADI
 US=100;X-TITLE=Attentive Safety CPR and Safety Training:geo:0,0
END:VEVENT
BEGIN:VTIMEZONE
TZID:America/New_York
X-LIC-LOCATION:America/New_York
BEGIN:STANDARD
DTSTART:20241103T010000
TZOFFSETFROM:-0400
TZOFFSETTO:-0500
TZNAME:EST
END:STANDARD
END:VTIMEZONE
END:VCALENDAR