BEGIN:VCALENDAR
VERSION:2.0
PRODID:-//wp-events-plugin.com//7.2.3.1//EN
TZID:America/New_York
X-WR-TIMEZONE:America/New_York
BEGIN:VEVENT
UID:790@breatheatlanta.us
DTSTART;TZID=America/New_York:20250226T163000
DTEND;TZID=America/New_York:20250226T190000
DTSTAMP:20250215T151018Z
URL:https://breatheatlanta.us/events/bls-provider-classroom-course/
SUMMARY:BLS Provider Classroom Course
DESCRIPTION:Basic Life Support (BLS) Provider Classroom Course – Attentiv
 e Safety CPR and Safety Training\nAttentive Safety CPR and Safety Training
  offers the Basic Life Support (BLS) Provider Classroom Course\, specifica
 lly designed for healthcare professionals and emergency responders who req
 uire essential life-saving skills. This comprehensive training equips part
 icipants with the knowledge and hands-on techniques needed to perform high
 -quality CPR and basic cardiovascular life support in both in-facility and
  prehospital settings.\n\nWho Should Take This Course?\nThis course is ide
 al for:✔ Doctors\, nurses\, paramedics\, and first responders who requir
 e BLS certification for their profession✔ Medical students and healthcar
 e trainees preparing for clinical roles✔ Emergency medical personnel wor
 king in hospitals\, clinics\, and prehospital environments✔ Other profes
 sionals who need to perform CPR and respond to cardiovascular emergencies\
 n\nWhat You Will Learn\n✅ High-Performance CPR Techniques – Learn how 
 to provide effective chest compressions\, rescue breathing\, and AED use f
 or infants\, children\, and adults.✅ Team-Based Resuscitation – Unders
 tand the dynamics of working in a high-performance resuscitation team for 
 improved patient outcomes.✅ Recognition of Life-Threatening Emergencies 
 – Develop the ability to quickly assess and respond to situations such a
 s cardiac arrest\, respiratory failure\, and choking.✅ Use of Automated 
 External Defibrillators (AEDs) – Gain practical experience in operating 
 AEDs in both healthcare and community settings.✅ Immediate Response to C
 ardiac Arrest – Learn how to initiate and coordinate early interventions
  that improve survival rates in critical emergencies.\n\nCertification &am
 p\; Course Details\n📌 Accredited Certification – Upon successful comp
 letion\, participants receive an American Heart Association (AHA) BLS Prov
 ider Course Completion Card\, valid for two years.📌 Flexible Scheduling
  – Courses are available at multiple locations with morning and afternoo
 n sessions to accommodate busy professionals.📌 Employer Verification 
 – Participants are encouraged to check with their employer to ensure the
 y are enrolling in the correct BLS certification course.\n\nRegister Today
  &amp\; Advance Your Life-Saving Skills\nDon’t miss the opportunity to g
 ain critical CPR and life support training with Attentive Safety CPR and S
 afety Training.\n\n\nGET TICKETS\n
ATTACH;FMTTYPE=image/jpeg:https://breatheatlanta.us/wp-content/uploads/202
 5/02/BLS-Provider-Classroom-Course.jpg
CATEGORIES:Wellness Events
LOCATION:Attentive Safety CPR and Safety Training\, 1640 Powers Ferry Road\
 , Bldg 18 Ste 300 Marietta\, 30067\, GA\, United States
X-APPLE-STRUCTURED-LOCATION;VALUE=URI;X-ADDRESS=1640 Powers Ferry Road\, Bl
 dg 18 Ste 300 Marietta\, 30067\, GA\, United States;X-APPLE-RADIUS=100;X-T
 ITLE=Attentive Safety CPR and Safety Training:geo:0,0
END:VEVENT
BEGIN:VTIMEZONE
TZID:America/New_York
X-LIC-LOCATION:America/New_York
BEGIN:STANDARD
DTSTART:20241103T010000
TZOFFSETFROM:-0400
TZOFFSETTO:-0500
TZNAME:EST
END:STANDARD
END:VTIMEZONE
END:VCALENDAR