BEGIN:VCALENDAR
VERSION:2.0
PRODID:-//wp-events-plugin.com//7.2.3.1//EN
TZID:America/New_York
X-WR-TIMEZONE:America/New_York
BEGIN:VEVENT
UID:595@breatheatlanta.us
DTSTART;TZID=America/New_York:20241103T100000
DTEND;TZID=America/New_York:20241103T110000
DTSTAMP:20241010T160644Z
URL:https://breatheatlanta.us/events/bls-provider-skills-session-2/
SUMMARY:BLS Provider Skills Session
DESCRIPTION:Safeguard CPR provides the BLS Provider Skills Session\, design
 ed for healthcare professionals and personnel who require proficiency in C
 PR and basic cardiovascular life support techniques. This course covers es
 sential life-saving skills needed in various settings\, including in-facil
 ity care and prehospital environments.\n\nUpon successfully completing the
  session\, participants will earn a course completion card\, valid for two
  years. It's essential to verify with your employer to ensure you're enrol
 ling in the appropriate course.\n\nTo participate in the skills session an
 d receive your certification card\, you must bring your certificate of com
 pletion for Part 1. This is a crucial step toward completing your BLS cert
 ification.\n\nFor more details\, visit Safeguard CPR BLS Provider Skills S
 ession.\n\nGET TICKETS\n
ATTACH;FMTTYPE=image/jpeg:https://breatheatlanta.us/wp-content/uploads/202
 4/10/BLS-Provider-Skills-Session.jpeg
CATEGORIES:Wellness Events
LOCATION:Attentive Safety CPR and Safety Training\, 1640 Powers Ferry Road 
 \, #Bldg 18 Ste 300 Marietta\, California\, 30067\, CA\, United States
X-APPLE-STRUCTURED-LOCATION;VALUE=URI;X-ADDRESS=1640 Powers Ferry Road \, #
 Bldg 18 Ste 300 Marietta\, California\, 30067\, CA\, United States;X-APPLE
 -RADIUS=100;X-TITLE=Attentive Safety CPR and Safety Training:geo:0,0
END:VEVENT
BEGIN:VTIMEZONE
TZID:America/New_York
X-LIC-LOCATION:America/New_York
BEGIN:STANDARD
DTSTART:20241103T010000
TZOFFSETFROM:-0400
TZOFFSETTO:-0500
TZNAME:EST
END:STANDARD
END:VTIMEZONE
END:VCALENDAR