BEGIN:VCALENDAR
VERSION:2.0
PRODID:-//wp-events-plugin.com//7.2.3.1//EN
TZID:America/New_York
X-WR-TIMEZONE:America/New_York
BEGIN:VEVENT
UID:546@breatheatlanta.us
DTSTART;TZID=America/New_York:20241017T160000
DTEND;TZID=America/New_York:20241017T170000
DTSTAMP:20241001T131455Z
URL:https://breatheatlanta.us/events/bls-provider-skills-session/
SUMMARY:BLS Provider Skills Session
DESCRIPTION:\n\n\nSafeguard CPR offers the BLS Provider Skills Session\, de
 signed for healthcare professionals and personnel who require proficiency 
 in CPR and other essential cardiovascular life support skills. This course
  covers a range of scenarios\, from in-facility to prehospital settings\, 
 ensuring participants are equipped to respond effectively in various medic
 al emergencies.\n\nUpon successful completion of the skills session\, stud
 ents will receive a course completion card\, valid for two years. It’s i
 mportant to consult with your employer to confirm that this course meets y
 our specific job requirements.\n\nTo attend the session\, participants mus
 t bring their certificate of completion from Part 1. This certificate is r
 equired to obtain the official certification card.\n\nFor more details or 
 to register\, visit: BLS Provider Skills Session.\n\n&nbsp\;\n\n\nGET TICK
 ETS\n
ATTACH;FMTTYPE=image/jpeg:https://breatheatlanta.us/wp-content/uploads/202
 4/10/BLS-Provider-Skills-Session.jpg
CATEGORIES:Wellness Events
LOCATION:Attentive Safety CPR and Safety Training\, 1640 Powers Ferry Road\
 , Bldg 18 Ste 300 Marietta\, Georgia\, 30067\, GA\, United States
X-APPLE-STRUCTURED-LOCATION;VALUE=URI;X-ADDRESS=1640 Powers Ferry Road\, Bl
 dg 18 Ste 300 Marietta\, Georgia\, 30067\, GA\, United States;X-APPLE-RADI
 US=100;X-TITLE=Attentive Safety CPR and Safety Training:geo:0,0
END:VEVENT
BEGIN:VTIMEZONE
TZID:America/New_York
X-LIC-LOCATION:America/New_York
BEGIN:DAYLIGHT
DTSTART:20240310T030000
TZOFFSETFROM:-0500
TZOFFSETTO:-0400
TZNAME:EDT
END:DAYLIGHT
END:VTIMEZONE
END:VCALENDAR