BEGIN:VCALENDAR
VERSION:2.0
PRODID:-//wp-events-plugin.com//7.2.3.1//EN
TZID:America/New_York
X-WR-TIMEZONE:America/New_York
BEGIN:VEVENT
UID:575@breatheatlanta.us
DTSTART;TZID=America/New_York:20241103T163000
DTEND;TZID=America/New_York:20241103T190000
DTSTAMP:20241009T120703Z
URL:https://breatheatlanta.us/events/bls-provider/
SUMMARY:BLS Provider
DESCRIPTION:The Basic Life Support (BLS) Provider Classroom Course offered 
 by Safeguard CPR is specifically designed for healthcare professionals see
 king to enhance their lifesaving skills. This comprehensive training progr
 am equips participants with the knowledge and techniques necessary to reco
 gnize and respond to various life-threatening emergencies effectively.\n\n
 Throughout the course\, participants will learn how to perform CPR (cardio
 pulmonary resuscitation) for adults\, children\, and infants\, use an Auto
 mated External Defibrillator (AED)\, and relieve choking in a safe and tim
 ely manner. This hands-on training ensures that healthcare providers are w
 ell-prepared to handle critical situations with confidence and competence.
 \n\nBy completing this BLS Provider course\, healthcare professionals will
  gain essential skills that can make a significant difference in emergency
  situations\, ultimately improving patient outcomes. For more information 
 about the course and to register\, visit the Safeguard CPR website. Please
  note: do not make payments directly on the website for this course.\n\nGE
 T TICKETS\n
ATTACH;FMTTYPE=image/jpeg:https://breatheatlanta.us/wp-content/uploads/202
 4/10/BLS-Provider.jpeg
CATEGORIES:Wellness Events
LOCATION:Attentive Safety CPR and Safety Training\, 1640 Powers Ferry Road 
 #Bldg 18 Ste 300 Marietta\, #Bldg 18 Ste 300 Marietta\, California\,  3006
 7 \, CA\, United States
X-APPLE-STRUCTURED-LOCATION;VALUE=URI;X-ADDRESS=1640 Powers Ferry Road #Bld
 g 18 Ste 300 Marietta\, #Bldg 18 Ste 300 Marietta\, California\,  30067 \,
  CA\, United States;X-APPLE-RADIUS=100;X-TITLE=Attentive Safety CPR and Sa
 fety Training:geo:0,0
END:VEVENT
BEGIN:VTIMEZONE
TZID:America/New_York
X-LIC-LOCATION:America/New_York
BEGIN:STANDARD
DTSTART:20241103T010000
TZOFFSETFROM:-0400
TZOFFSETTO:-0500
TZNAME:EST
END:STANDARD
END:VTIMEZONE
END:VCALENDAR