BEGIN:VCALENDAR
VERSION:2.0
PRODID:-//wp-events-plugin.com//7.2.3.1//EN
TZID:America/New_York
X-WR-TIMEZONE:America/New_York
BEGIN:VEVENT
UID:548@breatheatlanta.us
DTSTART;TZID=America/New_York:20241018T120000
DTEND;TZID=America/New_York:20241018T140000
DTSTAMP:20241001T133609Z
URL:https://breatheatlanta.us/events/bls-recertification-in-person-class-w
 ith-aha-certification/
SUMMARY:BLS Recertification In-Person Class with AHA Certification
DESCRIPTION:This in-person BLS recertification class is tailored for experi
 enced healthcare professionals who are already familiar with Basic Life Su
 pport (BLS) protocols. It is a condensed course\, ideal for those who need
  to renew their current BLS certification. Utilizing American Heart Associ
 ation (AHA) videos and hands-on skill sessions\, the course ensures partic
 ipants acquire and demonstrate BLS techniques effectively. To complete the
  course\, students must pass both the skills test and written BLS exam wit
 h a minimum score of 84%. Prior experience with BLS is required for enroll
 ment.\n\nCertification Process\nUpon successfully completing the course\, 
 participants will receive their official BLS certification card via email 
 from the AHA. Cards are typically delivered within 24 to 48 hours. For any
  concerns regarding card issuance\, participants are encouraged to contact
  their instructor at 404-620-1000.\n\nBooking Information\nTo avoid additi
 onal booking fees associated with Eventbrite\, it is recommended to book d
 irectly through the company's website here. Please note that if you book a
  class within 12 hours of the start time\, do not attend until you receive
  a confirmation email. For confirmation or other concerns\, call or text 4
 04-620-1000.\n\nAdditional Notes\n\n 	Ensure you book and pay for the corr
 ect class through the official website\, as it is the student's responsibi
 lity to know their required course.\n 	If rescheduling is needed\, contact
  your instructor at 404-620-1000.\n 	If the listed class times do not fit 
 your schedule\, reach out to the instructor—accommodations may be availa
 ble.\n\n\nGET TICKETS\n
ATTACH;FMTTYPE=image/jpeg:https://breatheatlanta.us/wp-content/uploads/202
 4/10/BLS-Provider-Skills-Session-1.jpg
CATEGORIES:Wellness Events
LOCATION:Quick CPR\, 1827 Powers Ferry Road Bldg 4\, 200 Atlanta\, Georgia\
 , 30339\, GA\, United States
X-APPLE-STRUCTURED-LOCATION;VALUE=URI;X-ADDRESS=1827 Powers Ferry Road Bldg
  4\, 200 Atlanta\, Georgia\, 30339\, GA\, United States;X-APPLE-RADIUS=100
 ;X-TITLE=Quick CPR:geo:0,0
END:VEVENT
BEGIN:VTIMEZONE
TZID:America/New_York
X-LIC-LOCATION:America/New_York
BEGIN:DAYLIGHT
DTSTART:20240310T030000
TZOFFSETFROM:-0500
TZOFFSETTO:-0400
TZNAME:EDT
END:DAYLIGHT
END:VTIMEZONE
END:VCALENDAR