BEGIN:VCALENDAR
VERSION:2.0
PRODID:-//wp-events-plugin.com//7.2.3.1//EN
TZID:America/New_York
X-WR-TIMEZONE:America/New_York
BEGIN:VEVENT
UID:707@breatheatlanta.us
DTSTART;TZID=America/New_York:20241121T160000
DTEND;TZID=America/New_York:20241121T170000
DTSTAMP:20241024T180310Z
URL:https://breatheatlanta.us/events/bls-renewal-2/
SUMMARY:BLS Renewal
DESCRIPTION:Safeguard CPR offers an engaging and thorough BLS Renewal Cours
 e in Alpharetta\, tailored for healthcare professionals looking to refresh
  their Basic Life Support (BLS) certification. This interactive training p
 rogram adheres to the most current guidelines set forth by the American He
 art Association (AHA)\, ensuring that participants receive up-to-date know
 ledge and skills essential for effective emergency response.\n\nThe BLS Re
 newal Course covers a wide range of life-saving techniques and protocols\,
  providing healthcare workers with the confidence and competence necessary
  to act swiftly in critical situations. Participants will engage in hands-
 on practice\, reinforcing their understanding of key concepts while learni
 ng to manage various life-threatening emergencies.\n\nCourse Features:\n\n
  	Interactive Learning: The course incorporates interactive elements\, fos
 tering a dynamic learning environment where participants can ask questions
  and engage with instructors.\n 	Comprehensive Review: Attendees will revi
 sit essential life-saving techniques\, including CPR\, AED use\, and strat
 egies for handling choking incidents in adults\, children\, and infants.\n
  	Current AHA Guidelines: The training is based on the latest standards fr
 om the American Heart Association\, ensuring participants are well-informe
 d about the most effective and recognized practices.\n 	Networking Opportu
 nities: Participants will have the chance to connect with fellow healthcar
 e professionals\, enhancing their network and support within the community
 .\n\nBy completing this renewal course\, healthcare professionals can ensu
 re their skills remain sharp and relevant\, enabling them to provide the h
 ighest standard of care in emergency situations.\n\nGET TICKETS\n
ATTACH;FMTTYPE=image/jpeg:https://breatheatlanta.us/wp-content/uploads/202
 4/10/BLS-Renewal.jpg
CATEGORIES:Things To Do
LOCATION:Attentive Safety CPR and Safety Training\, 1640 Powers Ferry Road\
 , Bldg 18 Ste 300 Marietta\, Georgia\, 30067\, GA\, United States
X-APPLE-STRUCTURED-LOCATION;VALUE=URI;X-ADDRESS=1640 Powers Ferry Road\, Bl
 dg 18 Ste 300 Marietta\, Georgia\, 30067\, GA\, United States;X-APPLE-RADI
 US=100;X-TITLE=Attentive Safety CPR and Safety Training:geo:0,0
END:VEVENT
BEGIN:VTIMEZONE
TZID:America/New_York
X-LIC-LOCATION:America/New_York
BEGIN:STANDARD
DTSTART:20241103T010000
TZOFFSETFROM:-0400
TZOFFSETTO:-0500
TZNAME:EST
END:STANDARD
END:VTIMEZONE
END:VCALENDAR