BEGIN:VCALENDAR
VERSION:2.0
PRODID:-//wp-events-plugin.com//7.2.3.1//EN
TZID:America/New_York
X-WR-TIMEZONE:America/New_York
BEGIN:VEVENT
UID:593@breatheatlanta.us
DTSTART;TZID=America/New_York:20241104T100000
DTEND;TZID=America/New_York:20241104T110000
DTSTAMP:20241010T153758Z
URL:https://breatheatlanta.us/events/bls-renewal/
SUMMARY:BLS Renewal
DESCRIPTION:\n\n\n\n\nSafeguard CPR’s BLS Renewal Course in Alpharetta is
  an in-depth\, interactive training program tailored for healthcare profes
 sionals who need to renew their Basic Life Support (BLS) certification. Th
 e course is designed to ensure participants stay current with the latest l
 ife-saving techniques and protocols\, following the most recent guidelines
  set by the American Heart Association (AHA).\n\nThroughout the program\, 
 attendees will receive a comprehensive review of critical BLS skills\, inc
 luding high-quality CPR\, proper use of AEDs (Automated External Defibrill
 ators)\, and effective teamwork during emergency situations. This renewal 
 course is ideal for medical professionals looking to refresh their knowled
 ge and skills\, ensuring they are well-prepared to respond confidently in 
 life-threatening situations.\n\nWith hands-on practice and expert instruct
 ion\, the BLS Renewal Course equips participants with the necessary tools 
 to maintain their certification and continue providing the highest standar
 d of patient care in emergency scenarios.\n\n\n\n\n\n\n\n\n\n\n\n\n\nGET T
 ICKETS\n
ATTACH;FMTTYPE=image/jpeg:https://breatheatlanta.us/wp-content/uploads/202
 4/10/BLS-Renewal.jpeg
CATEGORIES:Wellness Events
LOCATION:Attentive Safety CPR and Safety Training\, 1640 Powers Ferry Road\
 , Atlanta\, Georgia\, 30067\, GA\, United States
X-APPLE-STRUCTURED-LOCATION;VALUE=URI;X-ADDRESS=1640 Powers Ferry Road\, At
 lanta\, Georgia\, 30067\, GA\, United States;X-APPLE-RADIUS=100;X-TITLE=At
 tentive Safety CPR and Safety Training:geo:0,0
END:VEVENT
BEGIN:VTIMEZONE
TZID:America/New_York
X-LIC-LOCATION:America/New_York
BEGIN:STANDARD
DTSTART:20241103T010000
TZOFFSETFROM:-0400
TZOFFSETTO:-0500
TZNAME:EST
END:STANDARD
END:VTIMEZONE
END:VCALENDAR